Back to Multiple platform build/check report for BioC 3.13 experimental data
ABCDEFGH[I]JKLMNOPQRSTUVWXYZ

BUILD report for IlluminaDataTestFiles on malbec2

This page was generated on 2021-01-14 15:59:03 -0500 (Thu, 14 Jan 2021).

TO THE DEVELOPERS/MAINTAINERS OF THE IlluminaDataTestFiles PACKAGE: Please make sure to use the following settings in order to reproduce any error or warning you see on this page.
Package 185/385HostnameOS / ArchINSTALLBUILDCHECK
IlluminaDataTestFiles 1.29.0
Kasper Daniel Hansen
Snapshot Date: 2021-01-14 09:00:13 -0500 (Thu, 14 Jan 2021)
URL: https://git.bioconductor.org/packages/IlluminaDataTestFiles
Branch: master
Last Commit: 8f92bbf
Last Changed Date: 2020-10-27 10:04:40 -0500 (Tue, 27 Oct 2020)
malbec2 Linux (Ubuntu 20.04.1 LTS) / x86_64  OK [ OK ] OK UNNEEDED, same version exists in internal repository
riesling1 Windows Server 2019 Standard / x64  OK  OK  OK 

Summary

Package: IlluminaDataTestFiles
Version: 1.29.0
Command: /home/biocbuild/bbs-3.13-bioc/R/bin/R CMD build --keep-empty-dirs --no-resave-data IlluminaDataTestFiles
StartedAt: 2021-01-14 11:03:48 -0500 (Thu, 14 Jan 2021)
EndedAt: 2021-01-14 11:03:53 -0500 (Thu, 14 Jan 2021)
EllapsedTime: 5.0 seconds
RetCode: 0
Status:  OK 
PackageFile: IlluminaDataTestFiles_1.29.0.tar.gz
PackageFileSize: 23.69 MiB

Command output

##############################################################################
##############################################################################
###
### Running command:
###
###   /home/biocbuild/bbs-3.13-bioc/R/bin/R CMD build --keep-empty-dirs --no-resave-data IlluminaDataTestFiles
###
##############################################################################
##############################################################################


* checking for file ‘IlluminaDataTestFiles/DESCRIPTION’ ... OK
* preparing ‘IlluminaDataTestFiles’:
* checking DESCRIPTION meta-information ... OK
* checking for LF line-endings in source and make files and shell scripts
* checking for empty or unneeded directories
* building ‘IlluminaDataTestFiles_1.29.0.tar.gz’