Back to Multiple platform build/check report for BioC 3.13 experimental data |
|
This page was generated on 2021-01-14 15:59:06 -0500 (Thu, 14 Jan 2021).
TO THE DEVELOPERS/MAINTAINERS OF THE TabulaMurisData PACKAGE: Please make sure to use the following settings in order to reproduce any error or warning you see on this page. |
Package 350/385 | Hostname | OS / Arch | INSTALL | BUILD | CHECK | ||||||
TabulaMurisData 1.9.0 Charlotte Soneson
| malbec2 | Linux (Ubuntu 20.04.1 LTS) / x86_64 | [ OK ] | OK | OK | ![]() | |||||
riesling1 | Windows Server 2019 Standard / x64 | OK | OK | OK |
Package: TabulaMurisData |
Version: 1.9.0 |
Command: /home/biocbuild/bbs-3.13-bioc/R/bin/R CMD INSTALL TabulaMurisData |
StartedAt: 2021-01-14 10:01:30 -0500 (Thu, 14 Jan 2021) |
EndedAt: 2021-01-14 10:01:55 -0500 (Thu, 14 Jan 2021) |
EllapsedTime: 25.0 seconds |
RetCode: 0 |
Status: OK |
############################################################################## ############################################################################## ### ### Running command: ### ### /home/biocbuild/bbs-3.13-bioc/R/bin/R CMD INSTALL TabulaMurisData ### ############################################################################## ############################################################################## * installing to library ‘/home/biocbuild/bbs-3.13-bioc/R/library’ * installing *source* package ‘TabulaMurisData’ ... ** using staged installation ** R ** inst ** byte-compile and prepare package for lazy loading ** help *** installing help indices ** building package indices ** installing vignettes ** testing if installed package can be loaded from temporary location snapshotDate(): 2021-01-14 ** testing if installed package can be loaded from final location snapshotDate(): 2021-01-14 ** testing if installed package keeps a record of temporary installation path * DONE (TabulaMurisData)