Back to Multiple platform build/check report for BioC 3.13 experimental data
ABCDEFGHIJKLMNOPQRS[T]UVWXYZ

INSTALL report for TMExplorer on malbec2

This page was generated on 2021-01-14 15:59:06 -0500 (Thu, 14 Jan 2021).

TO THE DEVELOPERS/MAINTAINERS OF THE TMExplorer PACKAGE: Please make sure to use the following settings in order to reproduce any error or warning you see on this page.
Package 369/385HostnameOS / ArchINSTALLBUILDCHECK
TMExplorer 1.1.1
Erik Christensen
Snapshot Date: 2021-01-14 09:00:13 -0500 (Thu, 14 Jan 2021)
URL: https://git.bioconductor.org/packages/TMExplorer
Branch: master
Last Commit: c8d7fc9
Last Changed Date: 2021-01-13 10:48:42 -0500 (Wed, 13 Jan 2021)
malbec2 Linux (Ubuntu 20.04.1 LTS) / x86_64 [ OK ] OK  OK YES, new version is higher than in internal repository
riesling1 Windows Server 2019 Standard / x64  OK  OK  OK 

Summary

Package: TMExplorer
Version: 1.1.1
Command: /home/biocbuild/bbs-3.13-bioc/R/bin/R CMD INSTALL TMExplorer
StartedAt: 2021-01-14 10:00:11 -0500 (Thu, 14 Jan 2021)
EndedAt: 2021-01-14 10:00:33 -0500 (Thu, 14 Jan 2021)
EllapsedTime: 21.7 seconds
RetCode: 0
Status:  OK 

Command output

##############################################################################
##############################################################################
###
### Running command:
###
###   /home/biocbuild/bbs-3.13-bioc/R/bin/R CMD INSTALL TMExplorer
###
##############################################################################
##############################################################################


* installing to library ‘/home/biocbuild/bbs-3.13-bioc/R/library’
* installing *source* package ‘TMExplorer’ ...
** using staged installation
** R
** byte-compile and prepare package for lazy loading
** help
*** installing help indices
** building package indices
** installing vignettes
** testing if installed package can be loaded from temporary location
** testing if installed package can be loaded from final location
** testing if installed package keeps a record of temporary installation path
* DONE (TMExplorer)