Back to Multiple platform build/check report for BioC 3.13 experimental data |
|
This page was generated on 2021-01-21 16:01:21 -0500 (Thu, 21 Jan 2021).
TO THE DEVELOPERS/MAINTAINERS OF THE RTCGA.mRNA PACKAGE: Please make sure to use the following settings in order to reproduce any error or warning you see on this page. |
Package 314/386 | Hostname | OS / Arch | INSTALL | BUILD | CHECK | ||||||
RTCGA.mRNA 1.19.0 Marcin Kosinski
| malbec2 | Linux (Ubuntu 20.04.1 LTS) / x86_64 | OK | [ OK ] | OK | ![]() | |||||
riesling1 | Windows Server 2019 Standard / x64 | OK | OK | OK |
Package: RTCGA.mRNA |
Version: 1.19.0 |
Command: /home/biocbuild/bbs-3.13-bioc/R/bin/R CMD build --keep-empty-dirs --no-resave-data RTCGA.mRNA |
StartedAt: 2021-01-21 11:20:18 -0500 (Thu, 21 Jan 2021) |
EndedAt: 2021-01-21 11:21:31 -0500 (Thu, 21 Jan 2021) |
EllapsedTime: 72.5 seconds |
RetCode: 0 |
Status: OK |
PackageFile: RTCGA.mRNA_1.19.0.tar.gz |
PackageFileSize: 84.98 MiB |
############################################################################## ############################################################################## ### ### Running command: ### ### /home/biocbuild/bbs-3.13-bioc/R/bin/R CMD build --keep-empty-dirs --no-resave-data RTCGA.mRNA ### ############################################################################## ############################################################################## * checking for file ‘RTCGA.mRNA/DESCRIPTION’ ... OK * preparing ‘RTCGA.mRNA’: * checking DESCRIPTION meta-information ... OK * installing the package to build vignettes * creating vignettes ... OK * checking for LF line-endings in source and make files and shell scripts * checking for empty or unneeded directories * building ‘RTCGA.mRNA_1.19.0.tar.gz’