Back to Multiple platform build/check report for BioC 3.13 experimental data
ABCDE[F]GHIJKLMNOPQRSTUVWXYZ

INSTALL report for FlowSorted.CordBlood.450k on malbec2

This page was generated on 2021-01-11 15:59:22 -0500 (Mon, 11 Jan 2021).

TO THE DEVELOPERS/MAINTAINERS OF THE FlowSorted.CordBlood.450k PACKAGE: Please make sure to use the following settings in order to reproduce any error or warning you see on this page.
Package 128/385HostnameOS / ArchINSTALLBUILDCHECK
FlowSorted.CordBlood.450k 1.19.0
Shan V. Andrews
Snapshot Date: 2021-01-11 09:00:09 -0500 (Mon, 11 Jan 2021)
URL: https://git.bioconductor.org/packages/FlowSorted.CordBlood.450k
Branch: master
Last Commit: b7e7f56
Last Changed Date: 2020-10-27 10:17:56 -0500 (Tue, 27 Oct 2020)
malbec2 Linux (Ubuntu 20.04.1 LTS) / x86_64 [ OK ] OK  OK UNNEEDED, same version exists in internal repository
riesling1 Windows Server 2019 Standard / x64  ERROR  OK  ERROR 

Summary

Package: FlowSorted.CordBlood.450k
Version: 1.19.0
Command: /home/biocbuild/bbs-3.13-bioc/R/bin/R CMD INSTALL FlowSorted.CordBlood.450k
StartedAt: 2021-01-11 10:04:46 -0500 (Mon, 11 Jan 2021)
EndedAt: 2021-01-11 10:09:58 -0500 (Mon, 11 Jan 2021)
EllapsedTime: 311.5 seconds
RetCode: 0
Status:  OK 

Command output

##############################################################################
##############################################################################
###
### Running command:
###
###   /home/biocbuild/bbs-3.13-bioc/R/bin/R CMD INSTALL FlowSorted.CordBlood.450k
###
##############################################################################
##############################################################################


* installing to library ‘/home/biocbuild/bbs-3.13-bioc/R/library’
* installing *source* package ‘FlowSorted.CordBlood.450k’ ...
** using staged installation
** data
*** moving datasets to lazyload DB
** inst
** help
*** installing help indices
** building package indices
** installing vignettes
** testing if installed package can be loaded from temporary location
** testing if installed package can be loaded from final location
** testing if installed package keeps a record of temporary installation path
* DONE (FlowSorted.CordBlood.450k)