Back to Multiple platform build/check report for BioC 3.13 experimental data
ABC[D]EFGHIJKLMNOPQRSTUVWXYZ

CHECK report for dorothea on malbec2

This page was generated on 2021-01-21 16:01:08 -0500 (Thu, 21 Jan 2021).

TO THE DEVELOPERS/MAINTAINERS OF THE dorothea PACKAGE: Please make sure to use the following settings in order to reproduce any error or warning you see on this page.
Package 99/386HostnameOS / ArchINSTALLBUILDCHECK
dorothea 1.3.0
Christian H. Holland
Snapshot Date: 2021-01-21 09:00:14 -0500 (Thu, 21 Jan 2021)
URL: https://git.bioconductor.org/packages/dorothea
Branch: master
Last Commit: 6e2b837
Last Changed Date: 2020-10-27 10:31:26 -0500 (Tue, 27 Oct 2020)
malbec2 Linux (Ubuntu 20.04.1 LTS) / x86_64  OK  OK [ OK ]UNNEEDED, same version exists in internal repository
riesling1 Windows Server 2019 Standard / x64  OK  OK  WARNINGS 

Summary

Package: dorothea
Version: 1.3.0
Command: /home/biocbuild/bbs-3.13-bioc/R/bin/R CMD check --install=check:dorothea.install-out.txt --library=/home/biocbuild/bbs-3.13-bioc/R/library --no-vignettes --timings dorothea_1.3.0.tar.gz
StartedAt: 2021-01-21 11:58:13 -0500 (Thu, 21 Jan 2021)
EndedAt: 2021-01-21 11:59:42 -0500 (Thu, 21 Jan 2021)
EllapsedTime: 89.1 seconds
RetCode: 0
Status:  OK 
CheckDir: dorothea.Rcheck
Warnings: 0

Command output

##############################################################################
##############################################################################
###
### Running command:
###
###   /home/biocbuild/bbs-3.13-bioc/R/bin/R CMD check --install=check:dorothea.install-out.txt --library=/home/biocbuild/bbs-3.13-bioc/R/library --no-vignettes --timings dorothea_1.3.0.tar.gz
###
##############################################################################
##############################################################################


* using log directory ‘/home/biocbuild/bbs-3.13-data-experiment/meat/dorothea.Rcheck’
* using R Under development (unstable) (2021-01-05 r79797)
* using platform: x86_64-pc-linux-gnu (64-bit)
* using session charset: UTF-8
* using option ‘--no-vignettes’
* checking for file ‘dorothea/DESCRIPTION’ ... OK
* checking extension type ... Package
* this is package ‘dorothea’ version ‘1.3.0’
* package encoding: UTF-8
* checking package namespace information ... OK
* checking package dependencies ... OK
* checking if this is a source package ... OK
* checking if there is a namespace ... OK
* checking for hidden files and directories ... NOTE
Found the following hidden files and directories:
  .git_fetch_output.txt
  .git_merge_output.txt
  .travis.yml
These were most likely included in error. See section ‘Package
structure’ in the ‘Writing R Extensions’ manual.
* checking for portable file names ... OK
* checking for sufficient/correct file permissions ... OK
* checking whether package ‘dorothea’ can be installed ... OK
* checking installed package size ... NOTE
  installed size is 35.3Mb
  sub-directories of 1Mb or more:
    data       7.9Mb
    extdata   17.3Mb
    help       1.3Mb
    testdata   8.5Mb
* checking package directory ... OK
* checking ‘build’ directory ... OK
* checking DESCRIPTION meta-information ... OK
* checking top-level files ... OK
* checking for left-over files ... OK
* checking index information ... OK
* checking package subdirectories ... OK
* checking R files for non-ASCII characters ... OK
* checking R files for syntax errors ... OK
* checking whether the package can be loaded ... OK
* checking whether the package can be loaded with stated dependencies ... OK
* checking whether the package can be unloaded cleanly ... OK
* checking whether the namespace can be loaded with stated dependencies ... OK
* checking whether the namespace can be unloaded cleanly ... OK
* checking dependencies in R code ... OK
* checking S3 generic/method consistency ... OK
* checking replacement functions ... OK
* checking foreign function calls ... OK
* checking R code for possible problems ... OK
* checking Rd files ... OK
* checking Rd metadata ... OK
* checking Rd cross-references ... OK
* checking for missing documentation entries ... OK
* checking for code/documentation mismatches ... OK
* checking Rd \usage sections ... OK
* checking Rd contents ... OK
* checking for unstated dependencies in examples ... OK
* checking contents of ‘data’ directory ... OK
* checking data for non-ASCII characters ... OK
* checking data for ASCII and uncompressed saves ... OK
* checking files in ‘vignettes’ ... OK
* checking examples ... OK
Examples with CPU (user + system) or elapsed time > 5s
          user system elapsed
run_viper 9.08  0.128   9.208
* checking for unstated dependencies in ‘tests’ ... OK
* checking tests ...
  Running ‘testthat.R’
 OK
* checking for unstated dependencies in vignettes ... OK
* checking package vignettes in ‘inst/doc’ ... OK
* checking running R code from vignettes ... SKIPPED
* checking re-building of vignette outputs ... SKIPPED
* checking PDF version of manual ... OK
* DONE

Status: 2 NOTEs
See
  ‘/home/biocbuild/bbs-3.13-data-experiment/meat/dorothea.Rcheck/00check.log’
for details.



Installation output

dorothea.Rcheck/00install.out

##############################################################################
##############################################################################
###
### Running command:
###
###   /home/biocbuild/bbs-3.13-bioc/R/bin/R CMD INSTALL dorothea
###
##############################################################################
##############################################################################


* installing to library ‘/home/biocbuild/bbs-3.13-bioc/R/library’
* installing *source* package ‘dorothea’ ...
** using staged installation
** R
** data
*** moving datasets to lazyload DB
** inst
** byte-compile and prepare package for lazy loading
** help
*** installing help indices
*** copying figures
** building package indices
** installing vignettes
** testing if installed package can be loaded from temporary location
** testing if installed package can be loaded from final location
** testing if installed package keeps a record of temporary installation path
* DONE (dorothea)

Tests output

dorothea.Rcheck/tests/testthat.Rout


R Under development (unstable) (2021-01-05 r79797) -- "Unsuffered Consequences"
Copyright (C) 2021 The R Foundation for Statistical Computing
Platform: x86_64-pc-linux-gnu (64-bit)

R is free software and comes with ABSOLUTELY NO WARRANTY.
You are welcome to redistribute it under certain conditions.
Type 'license()' or 'licence()' for distribution details.

R is a collaborative project with many contributors.
Type 'contributors()' for more information and
'citation()' on how to cite R or R packages in publications.

Type 'demo()' for some demos, 'help()' for on-line help, or
'help.start()' for an HTML browser interface to help.
Type 'q()' to quit R.

> library(testthat)
> library(dorothea)
> 
> test_check("dorothea")
[ FAIL 0 | WARN 0 | SKIP 0 | PASS 16 ]
> 
> proc.time()
   user  system elapsed 
 20.379   0.456  21.159 

Example timings

dorothea.Rcheck/dorothea-Ex.timings

nameusersystemelapsed
df2regulon0.4000.0320.433
pipe000
run_viper9.0800.1289.208