Back to Multiple platform build/check report for BioC 3.13 experimental data
ABCDEFGHI[J]KLMNOPQRSTUVWXYZ

INSTALL report for JctSeqData on malbec2

This page was generated on 2021-01-14 15:59:03 -0500 (Thu, 14 Jan 2021).

TO THE DEVELOPERS/MAINTAINERS OF THE JctSeqData PACKAGE: Please make sure to use the following settings in order to reproduce any error or warning you see on this page.
Package 190/385HostnameOS / ArchINSTALLBUILDCHECK
JctSeqData 1.21.1
Stephen Hartley
Snapshot Date: 2021-01-14 09:00:13 -0500 (Thu, 14 Jan 2021)
URL: https://git.bioconductor.org/packages/JctSeqData
Branch: master
Last Commit: 50b6ba0
Last Changed Date: 2020-11-30 08:25:59 -0500 (Mon, 30 Nov 2020)
malbec2 Linux (Ubuntu 20.04.1 LTS) / x86_64 [ OK ] OK  ERROR 
riesling1 Windows Server 2019 Standard / x64  OK  OK  ERROR 

Summary

Package: JctSeqData
Version: 1.21.1
Command: /home/biocbuild/bbs-3.13-bioc/R/bin/R CMD INSTALL JctSeqData
StartedAt: 2021-01-14 09:50:16 -0500 (Thu, 14 Jan 2021)
EndedAt: 2021-01-14 09:50:29 -0500 (Thu, 14 Jan 2021)
EllapsedTime: 12.4 seconds
RetCode: 0
Status:  OK 

Command output

##############################################################################
##############################################################################
###
### Running command:
###
###   /home/biocbuild/bbs-3.13-bioc/R/bin/R CMD INSTALL JctSeqData
###
##############################################################################
##############################################################################


* installing to library ‘/home/biocbuild/bbs-3.13-bioc/R/library’
* installing *source* package ‘JctSeqData’ ...
** using staged installation
** R
** data
*** moving datasets to lazyload DB
Warning: namespace ‘JunctionSeq’ is not available and has been replaced
by .GlobalEnv when processing object ‘jscs’
Warning: namespace ‘JunctionSeq’ is not available and has been replaced
by .GlobalEnv when processing object ‘jscs’
Warning: namespace ‘JunctionSeq’ is not available and has been replaced
by .GlobalEnv when processing object ‘jscs2’
Warning: namespace ‘JunctionSeq’ is not available and has been replaced
by .GlobalEnv when processing object ‘jscs2’
** inst
** byte-compile and prepare package for lazy loading
** help
*** installing help indices
** building package indices
** installing vignettes
** testing if installed package can be loaded from temporary location
Warning: Package 'JctSeqData' is deprecated and will be removed from
  Bioconductor version 3.14
** testing if installed package can be loaded from final location
Warning: Package 'JctSeqData' is deprecated and will be removed from
  Bioconductor version 3.14
** testing if installed package keeps a record of temporary installation path
* DONE (JctSeqData)