Back to Multiple platform build/check report for BioC 3.13 experimental data
ABCDEFG[H]IJKLMNOPQRSTUVWXYZ

BUILD report for hapmap500knsp on malbec2

This page was generated on 2021-01-14 15:59:02 -0500 (Thu, 14 Jan 2021).

TO THE DEVELOPERS/MAINTAINERS OF THE hapmap500knsp PACKAGE: Please make sure to use the following settings in order to reproduce any error or warning you see on this page.
Package 155/385HostnameOS / ArchINSTALLBUILDCHECK
hapmap500knsp 1.33.0
Benilton Carvalho
Snapshot Date: 2021-01-14 09:00:13 -0500 (Thu, 14 Jan 2021)
URL: https://git.bioconductor.org/packages/hapmap500knsp
Branch: master
Last Commit: 7c2d418
Last Changed Date: 2020-10-27 09:48:09 -0500 (Tue, 27 Oct 2020)
malbec2 Linux (Ubuntu 20.04.1 LTS) / x86_64  OK [ OK ] OK UNNEEDED, same version exists in internal repository
riesling1 Windows Server 2019 Standard / x64  OK  OK  OK 

Summary

Package: hapmap500knsp
Version: 1.33.0
Command: /home/biocbuild/bbs-3.13-bioc/R/bin/R CMD build --keep-empty-dirs --no-resave-data hapmap500knsp
StartedAt: 2021-01-14 10:54:45 -0500 (Thu, 14 Jan 2021)
EndedAt: 2021-01-14 10:57:09 -0500 (Thu, 14 Jan 2021)
EllapsedTime: 143.8 seconds
RetCode: 0
Status:  OK 
PackageFile: hapmap500knsp_1.33.0.tar.gz
PackageFileSize: 80.39 MiB

Command output

##############################################################################
##############################################################################
###
### Running command:
###
###   /home/biocbuild/bbs-3.13-bioc/R/bin/R CMD build --keep-empty-dirs --no-resave-data hapmap500knsp
###
##############################################################################
##############################################################################


* checking for file ‘hapmap500knsp/DESCRIPTION’ ... OK
* preparing ‘hapmap500knsp’:
* checking DESCRIPTION meta-information ... OK
* checking for LF line-endings in source and make files and shell scripts
* checking for empty or unneeded directories
* building ‘hapmap500knsp_1.33.0.tar.gz’