Back to Multiple platform build/check report for BioC 3.13 experimental data
ABCDEFGHIJKL[M]NOPQRSTUVWXYZ

BUILD report for mouse4302barcodevecs on malbec2

This page was generated on 2021-01-14 15:59:03 -0500 (Thu, 14 Jan 2021).

TO THE DEVELOPERS/MAINTAINERS OF THE mouse4302barcodevecs PACKAGE: Please make sure to use the following settings in order to reproduce any error or warning you see on this page.
Package 233/385HostnameOS / ArchINSTALLBUILDCHECK
mouse4302barcodevecs 1.29.0
Matthew N. McCall
Snapshot Date: 2021-01-14 09:00:13 -0500 (Thu, 14 Jan 2021)
URL: https://git.bioconductor.org/packages/mouse4302barcodevecs
Branch: master
Last Commit: 58b1173
Last Changed Date: 2020-10-27 09:51:35 -0500 (Tue, 27 Oct 2020)
malbec2 Linux (Ubuntu 20.04.1 LTS) / x86_64  OK [ OK ] OK UNNEEDED, same version exists in internal repository
riesling1 Windows Server 2019 Standard / x64  OK  OK  OK 

Summary

Package: mouse4302barcodevecs
Version: 1.29.0
Command: /home/biocbuild/bbs-3.13-bioc/R/bin/R CMD build --keep-empty-dirs --no-resave-data mouse4302barcodevecs
StartedAt: 2021-01-14 11:10:30 -0500 (Thu, 14 Jan 2021)
EndedAt: 2021-01-14 11:10:32 -0500 (Thu, 14 Jan 2021)
EllapsedTime: 2.0 seconds
RetCode: 0
Status:  OK 
PackageFile: mouse4302barcodevecs_1.29.0.tar.gz
PackageFileSize: 1022 KiB

Command output

##############################################################################
##############################################################################
###
### Running command:
###
###   /home/biocbuild/bbs-3.13-bioc/R/bin/R CMD build --keep-empty-dirs --no-resave-data mouse4302barcodevecs
###
##############################################################################
##############################################################################


* checking for file ‘mouse4302barcodevecs/DESCRIPTION’ ... OK
* preparing ‘mouse4302barcodevecs’:
* checking DESCRIPTION meta-information ... OK
* checking for LF line-endings in source and make files and shell scripts
* checking for empty or unneeded directories
* looking to see if a ‘data/datalist’ file should be added
* building ‘mouse4302barcodevecs_1.29.0.tar.gz’