Back to Multiple platform build/check report for BioC 3.13 experimental data
ABCDEFGHIJKLMNOPQR[S]TUVWXYZ

BUILD report for spatialLIBD on malbec2

This page was generated on 2021-01-21 16:01:22 -0500 (Thu, 21 Jan 2021).

TO THE DEVELOPERS/MAINTAINERS OF THE spatialLIBD PACKAGE: Please make sure to use the following settings in order to reproduce any error or warning you see on this page.
Package 342/386HostnameOS / ArchINSTALLBUILDCHECK
spatialLIBD 1.3.1
Leonardo Collado-Torres
Snapshot Date: 2021-01-21 09:00:14 -0500 (Thu, 21 Jan 2021)
URL: https://git.bioconductor.org/packages/spatialLIBD
Branch: master
Last Commit: a14282a
Last Changed Date: 2020-12-17 18:38:41 -0500 (Thu, 17 Dec 2020)
malbec2 Linux (Ubuntu 20.04.1 LTS) / x86_64  OK [ OK ] OK UNNEEDED, same version exists in internal repository
riesling1 Windows Server 2019 Standard / x64  OK  OK  ERROR 

Summary

Package: spatialLIBD
Version: 1.3.1
Command: /home/biocbuild/bbs-3.13-bioc/R/bin/R CMD build --keep-empty-dirs --no-resave-data spatialLIBD
StartedAt: 2021-01-21 11:28:27 -0500 (Thu, 21 Jan 2021)
EndedAt: 2021-01-21 11:30:22 -0500 (Thu, 21 Jan 2021)
EllapsedTime: 115.0 seconds
RetCode: 0
Status:  OK 
PackageFile: spatialLIBD_1.3.1.tar.gz
PackageFileSize: 11.75 MiB

Command output

##############################################################################
##############################################################################
###
### Running command:
###
###   /home/biocbuild/bbs-3.13-bioc/R/bin/R CMD build --keep-empty-dirs --no-resave-data spatialLIBD
###
##############################################################################
##############################################################################


* checking for file ‘spatialLIBD/DESCRIPTION’ ... OK
* preparing ‘spatialLIBD’:
* checking DESCRIPTION meta-information ... OK
* installing the package to build vignettes
* creating vignettes ... OK
* checking for LF line-endings in source and make files and shell scripts
* checking for empty or unneeded directories
* building ‘spatialLIBD_1.3.1.tar.gz’