Back to Multiple platform build/check report for BioC 3.13 experimental data |
|
This page was generated on 2021-01-18 15:58:36 -0500 (Mon, 18 Jan 2021).
TO THE DEVELOPERS/MAINTAINERS OF THE GeuvadisTranscriptExpr PACKAGE: Please make sure to use the following settings in order to reproduce any error or warning you see on this page. |
Package 142/385 | Hostname | OS / Arch | INSTALL | BUILD | CHECK | ||||||
GeuvadisTranscriptExpr 1.19.0 Malgorzata Nowicka
| malbec2 | Linux (Ubuntu 20.04.1 LTS) / x86_64 | [ OK ] | OK | OK | ![]() | |||||
riesling1 | Windows Server 2019 Standard / x64 | OK | OK | OK |
Package: GeuvadisTranscriptExpr |
Version: 1.19.0 |
Command: /home/biocbuild/bbs-3.13-bioc/R/bin/R CMD INSTALL GeuvadisTranscriptExpr |
StartedAt: 2021-01-18 09:48:57 -0500 (Mon, 18 Jan 2021) |
EndedAt: 2021-01-18 09:49:07 -0500 (Mon, 18 Jan 2021) |
EllapsedTime: 9.4 seconds |
RetCode: 0 |
Status: OK |
############################################################################## ############################################################################## ### ### Running command: ### ### /home/biocbuild/bbs-3.13-bioc/R/bin/R CMD INSTALL GeuvadisTranscriptExpr ### ############################################################################## ############################################################################## * installing to library ‘/home/biocbuild/bbs-3.13-bioc/R/library’ * installing *source* package ‘GeuvadisTranscriptExpr’ ... ** using staged installation ** R ** data *** moving datasets to lazyload DB ** inst ** byte-compile and prepare package for lazy loading ** help *** installing help indices ** building package indices ** installing vignettes ** testing if installed package can be loaded from temporary location ** testing if installed package can be loaded from final location ** testing if installed package keeps a record of temporary installation path * DONE (GeuvadisTranscriptExpr)