Back to Build/check report for BioC 3.13 experimental data
A[B]CDEFGHIJKLMNOPQRSTUVWXYZ

This page was generated on 2021-09-25 15:59:20 -0400 (Sat, 25 Sep 2021).

All results for package BeadArrayUseCases

To the developers/maintainers of the BeadArrayUseCases package:
Make sure to use the following settings in order to reproduce any error or warning you see on this page.

raw results

Package 24/406HostnameOS / ArchINSTALLBUILDCHECK
BeadArrayUseCases 1.30.1  (landing page)
Mike Smith
Snapshot Date: 2021-09-25 09:30:05 -0400 (Sat, 25 Sep 2021)
URL: https://git.bioconductor.org/packages/BeadArrayUseCases
Branch: RELEASE_3_13
Last Commit: 17d839e
Last Changed Date: 2021-07-26 15:22:07 -0400 (Mon, 26 Jul 2021)
malbec2Linux (Ubuntu 20.04.2 LTS) / x86_64  OK    OK    OK  UNNEEDED, same version is already published