Back to Multiple platform build/check report for BioC 3.13 experimental data
ABCDEF[G]HIJKLMNOPQRSTUVWXYZ

INSTALL report for GSVAdata on malbec2

This page was generated on 2021-01-18 15:58:36 -0500 (Mon, 18 Jan 2021).

TO THE DEVELOPERS/MAINTAINERS OF THE GSVAdata PACKAGE: Please make sure to use the following settings in order to reproduce any error or warning you see on this page.
Package 150/385HostnameOS / ArchINSTALLBUILDCHECK
GSVAdata 1.27.0
Robert Castelo
Snapshot Date: 2021-01-18 09:00:15 -0500 (Mon, 18 Jan 2021)
URL: https://git.bioconductor.org/packages/GSVAdata
Branch: master
Last Commit: 68ac4aa
Last Changed Date: 2020-10-27 09:53:04 -0500 (Tue, 27 Oct 2020)
malbec2 Linux (Ubuntu 20.04.1 LTS) / x86_64 [ OK ] OK  OK UNNEEDED, same version exists in internal repository
riesling1 Windows Server 2019 Standard / x64  OK  OK  OK 

Summary

Package: GSVAdata
Version: 1.27.0
Command: /home/biocbuild/bbs-3.13-bioc/R/bin/R CMD INSTALL GSVAdata
StartedAt: 2021-01-18 10:08:27 -0500 (Mon, 18 Jan 2021)
EndedAt: 2021-01-18 10:08:37 -0500 (Mon, 18 Jan 2021)
EllapsedTime: 10.0 seconds
RetCode: 0
Status:  OK 

Command output

##############################################################################
##############################################################################
###
### Running command:
###
###   /home/biocbuild/bbs-3.13-bioc/R/bin/R CMD INSTALL GSVAdata
###
##############################################################################
##############################################################################


* installing to library ‘/home/biocbuild/bbs-3.13-bioc/R/library’
* installing *source* package ‘GSVAdata’ ...
** using staged installation
** data
** help
*** installing help indices
** building package indices
** testing if installed package can be loaded from temporary location
** testing if installed package can be loaded from final location
** testing if installed package keeps a record of temporary installation path
* DONE (GSVAdata)