Back to Multiple platform build/check report for BioC 3.13 experimental data |
|
This page was generated on 2021-01-14 15:58:58 -0500 (Thu, 14 Jan 2021).
TO THE DEVELOPERS/MAINTAINERS OF THE chipseqDBData PACKAGE: Please make sure to use the following settings in order to reproduce any error or warning you see on this page. |
Package 61/385 | Hostname | OS / Arch | INSTALL | BUILD | CHECK | ||||||
chipseqDBData 1.7.0 Aaron Lun
| malbec2 | Linux (Ubuntu 20.04.1 LTS) / x86_64 | OK | [ OK ] | OK | ![]() | |||||
riesling1 | Windows Server 2019 Standard / x64 | OK | OK | OK |
Package: chipseqDBData |
Version: 1.7.0 |
Command: /home/biocbuild/bbs-3.13-bioc/R/bin/R CMD build --keep-empty-dirs --no-resave-data chipseqDBData |
StartedAt: 2021-01-14 10:25:49 -0500 (Thu, 14 Jan 2021) |
EndedAt: 2021-01-14 10:28:14 -0500 (Thu, 14 Jan 2021) |
EllapsedTime: 144.5 seconds |
RetCode: 0 |
Status: OK |
PackageFile: chipseqDBData_1.7.0.tar.gz |
PackageFileSize: 287.9 KiB |
############################################################################## ############################################################################## ### ### Running command: ### ### /home/biocbuild/bbs-3.13-bioc/R/bin/R CMD build --keep-empty-dirs --no-resave-data chipseqDBData ### ############################################################################## ############################################################################## * checking for file ‘chipseqDBData/DESCRIPTION’ ... OK * preparing ‘chipseqDBData’: * checking DESCRIPTION meta-information ... OK * installing the package to build vignettes * creating vignettes ... OK * checking for LF line-endings in source and make files and shell scripts * checking for empty or unneeded directories * building ‘chipseqDBData_1.7.0.tar.gz’