Back to Multiple platform build/check report for BioC 3.13 experimental data
ABC[D]EFGHIJKLMNOPQRSTUVWXYZ

BUILD report for DAPARdata on malbec2

This page was generated on 2021-01-14 15:58:59 -0500 (Thu, 14 Jan 2021).

TO THE DEVELOPERS/MAINTAINERS OF THE DAPARdata PACKAGE: Please make sure to use the following settings in order to reproduce any error or warning you see on this page.
Package 88/385HostnameOS / ArchINSTALLBUILDCHECK
DAPARdata 1.21.0
Samuel Wieczorek
Snapshot Date: 2021-01-14 09:00:13 -0500 (Thu, 14 Jan 2021)
URL: https://git.bioconductor.org/packages/DAPARdata
Branch: master
Last Commit: bc1bf19
Last Changed Date: 2020-10-27 10:18:29 -0500 (Tue, 27 Oct 2020)
malbec2 Linux (Ubuntu 20.04.1 LTS) / x86_64  OK [ OK ] WARNINGS UNNEEDED, same version exists in internal repository
riesling1 Windows Server 2019 Standard / x64  OK  OK  WARNINGS 

Summary

Package: DAPARdata
Version: 1.21.0
Command: /home/biocbuild/bbs-3.13-bioc/R/bin/R CMD build --keep-empty-dirs --no-resave-data DAPARdata
StartedAt: 2021-01-14 10:33:14 -0500 (Thu, 14 Jan 2021)
EndedAt: 2021-01-14 10:33:22 -0500 (Thu, 14 Jan 2021)
EllapsedTime: 8.5 seconds
RetCode: 0
Status:  OK 
PackageFile: DAPARdata_1.21.0.tar.gz
PackageFileSize: 29.27 MiB

Command output

##############################################################################
##############################################################################
###
### Running command:
###
###   /home/biocbuild/bbs-3.13-bioc/R/bin/R CMD build --keep-empty-dirs --no-resave-data DAPARdata
###
##############################################################################
##############################################################################


* checking for file ‘DAPARdata/DESCRIPTION’ ... OK
* preparing ‘DAPARdata’:
* checking DESCRIPTION meta-information ... OK
* checking for LF line-endings in source and make files and shell scripts
* checking for empty or unneeded directories
* looking to see if a ‘data/datalist’ file should be added
* building ‘DAPARdata_1.21.0.tar.gz’