Back to Multiple platform build/check report for BioC 3.13 experimental data
AB[C]DEFGHIJKLMNOPQRSTUVWXYZ

INSTALL report for ceu1kg on malbec2

This page was generated on 2021-01-14 15:58:58 -0500 (Thu, 14 Jan 2021).

TO THE DEVELOPERS/MAINTAINERS OF THE ceu1kg PACKAGE: Please make sure to use the following settings in order to reproduce any error or warning you see on this page.
Package 52/385HostnameOS / ArchINSTALLBUILDCHECK
ceu1kg 0.29.1
VJ Carey
Snapshot Date: 2021-01-14 09:00:13 -0500 (Thu, 14 Jan 2021)
URL: https://git.bioconductor.org/packages/ceu1kg
Branch: master
Last Commit: fdea3e5
Last Changed Date: 2020-11-30 08:18:42 -0500 (Mon, 30 Nov 2020)
malbec2 Linux (Ubuntu 20.04.1 LTS) / x86_64 [ ERROR ] ERROR  skipped 
riesling1 Windows Server 2019 Standard / x64  ERROR  ERROR  skipped 

Summary

Package: ceu1kg
Version: 0.29.1
Command: /home/biocbuild/bbs-3.13-bioc/R/bin/R CMD INSTALL ceu1kg
StartedAt: 2021-01-14 10:14:55 -0500 (Thu, 14 Jan 2021)
EndedAt: 2021-01-14 10:14:56 -0500 (Thu, 14 Jan 2021)
EllapsedTime: 0.5 seconds
RetCode: 1
Status:  ERROR 

Command output

##############################################################################
##############################################################################
###
### Running command:
###
###   /home/biocbuild/bbs-3.13-bioc/R/bin/R CMD INSTALL ceu1kg
###
##############################################################################
##############################################################################


* installing to library ‘/home/biocbuild/bbs-3.13-bioc/R/library’
ERROR: dependencies ‘GGBase’, ‘GGtools’ are not available for package ‘ceu1kg’
* removing ‘/home/biocbuild/bbs-3.13-bioc/R/library/ceu1kg’