Back to Multiple platform build/check report for BioC 3.13 experimental data
ABCDE[F]GHIJKLMNOPQRSTUVWXYZ

INSTALL report for flowWorkspaceData on malbec2

This page was generated on 2021-01-14 15:59:01 -0500 (Thu, 14 Jan 2021).

TO THE DEVELOPERS/MAINTAINERS OF THE flowWorkspaceData PACKAGE: Please make sure to use the following settings in order to reproduce any error or warning you see on this page.
Package 132/385HostnameOS / ArchINSTALLBUILDCHECK
flowWorkspaceData 3.3.0
Mike Jiang
Snapshot Date: 2021-01-14 09:00:13 -0500 (Thu, 14 Jan 2021)
URL: https://git.bioconductor.org/packages/flowWorkspaceData
Branch: master
Last Commit: dba5e30
Last Changed Date: 2020-10-27 09:53:07 -0500 (Tue, 27 Oct 2020)
malbec2 Linux (Ubuntu 20.04.1 LTS) / x86_64 [ OK ] OK  OK UNNEEDED, same version exists in internal repository
riesling1 Windows Server 2019 Standard / x64  OK  OK  OK 

Summary

Package: flowWorkspaceData
Version: 3.3.0
Command: /home/biocbuild/bbs-3.13-bioc/R/bin/R CMD INSTALL flowWorkspaceData
StartedAt: 2021-01-14 09:55:30 -0500 (Thu, 14 Jan 2021)
EndedAt: 2021-01-14 09:55:48 -0500 (Thu, 14 Jan 2021)
EllapsedTime: 18.1 seconds
RetCode: 0
Status:  OK 

Command output

##############################################################################
##############################################################################
###
### Running command:
###
###   /home/biocbuild/bbs-3.13-bioc/R/bin/R CMD INSTALL flowWorkspaceData
###
##############################################################################
##############################################################################


* installing to library ‘/home/biocbuild/bbs-3.13-bioc/R/library’
* installing *source* package ‘flowWorkspaceData’ ...
** using staged installation
** R
** inst
** byte-compile and prepare package for lazy loading
** help
*** installing help indices
** building package indices
** testing if installed package can be loaded from temporary location
** testing if installed package can be loaded from final location
** testing if installed package keeps a record of temporary installation path
* DONE (flowWorkspaceData)