Back to Multiple platform build/check report for BioC 3.13 experimental data |
|
This page was generated on 2021-01-14 15:58:58 -0500 (Thu, 14 Jan 2021).
TO THE DEVELOPERS/MAINTAINERS OF THE chromstaRData PACKAGE: Please make sure to use the following settings in order to reproduce any error or warning you see on this page. |
Package 63/385 | Hostname | OS / Arch | INSTALL | BUILD | CHECK | ||||||
chromstaRData 1.17.0 Aaron Taudt
| malbec2 | Linux (Ubuntu 20.04.1 LTS) / x86_64 | [ OK ] | OK | OK | ![]() | |||||
riesling1 | Windows Server 2019 Standard / x64 | OK | OK | OK |
Package: chromstaRData |
Version: 1.17.0 |
Command: /home/biocbuild/bbs-3.13-bioc/R/bin/R CMD INSTALL chromstaRData |
StartedAt: 2021-01-14 09:52:32 -0500 (Thu, 14 Jan 2021) |
EndedAt: 2021-01-14 09:53:00 -0500 (Thu, 14 Jan 2021) |
EllapsedTime: 28.0 seconds |
RetCode: 0 |
Status: OK |
############################################################################## ############################################################################## ### ### Running command: ### ### /home/biocbuild/bbs-3.13-bioc/R/bin/R CMD INSTALL chromstaRData ### ############################################################################## ############################################################################## * installing to library ‘/home/biocbuild/bbs-3.13-bioc/R/library’ * installing *source* package ‘chromstaRData’ ... ** using staged installation ** R ** data ** inst ** byte-compile and prepare package for lazy loading ** help *** installing help indices ** building package indices ** testing if installed package can be loaded from temporary location ** testing if installed package can be loaded from final location ** testing if installed package keeps a record of temporary installation path * DONE (chromstaRData)