Back to Multiple platform build/check report for BioC 3.13 experimental data
ABCDEFGHIJK[L]MNOPQRSTUVWXYZ

INSTALL report for lydata on malbec2

This page was generated on 2021-01-18 15:58:37 -0500 (Mon, 18 Jan 2021).

TO THE DEVELOPERS/MAINTAINERS OF THE lydata PACKAGE: Please make sure to use the following settings in order to reproduce any error or warning you see on this page.
Package 203/385HostnameOS / ArchINSTALLBUILDCHECK
lydata 1.17.0
Alex Pickering
Snapshot Date: 2021-01-18 09:00:15 -0500 (Mon, 18 Jan 2021)
URL: https://git.bioconductor.org/packages/lydata
Branch: master
Last Commit: 7110cf1
Last Changed Date: 2020-10-27 10:20:11 -0500 (Tue, 27 Oct 2020)
malbec2 Linux (Ubuntu 20.04.1 LTS) / x86_64 [ OK ] OK  OK UNNEEDED, same version exists in internal repository
riesling1 Windows Server 2019 Standard / x64  OK  OK  OK 

Summary

Package: lydata
Version: 1.17.0
Command: /home/biocbuild/bbs-3.13-bioc/R/bin/R CMD INSTALL lydata
StartedAt: 2021-01-18 09:53:34 -0500 (Mon, 18 Jan 2021)
EndedAt: 2021-01-18 09:53:58 -0500 (Mon, 18 Jan 2021)
EllapsedTime: 23.8 seconds
RetCode: 0
Status:  OK 

Command output

##############################################################################
##############################################################################
###
### Running command:
###
###   /home/biocbuild/bbs-3.13-bioc/R/bin/R CMD INSTALL lydata
###
##############################################################################
##############################################################################


* installing to library ‘/home/biocbuild/bbs-3.13-bioc/R/library’
* installing *source* package ‘lydata’ ...
** using staged installation
** inst
** help
No man pages found in package  ‘lydata’ 
*** installing help indices
** building package indices
** testing if installed package can be loaded from temporary location
** testing if installed package can be loaded from final location
** testing if installed package keeps a record of temporary installation path
* DONE (lydata)