Back to Multiple platform build/check report for BioC 3.13 experimental data |
|
This page was generated on 2021-01-14 15:59:06 -0500 (Thu, 14 Jan 2021).
TO THE DEVELOPERS/MAINTAINERS OF THE WES.1KG.WUGSC PACKAGE: Please make sure to use the following settings in order to reproduce any error or warning you see on this page. |
Package 376/385 | Hostname | OS / Arch | INSTALL | BUILD | CHECK | ||||||
WES.1KG.WUGSC 1.23.0 Yuchao Jiang
| malbec2 | Linux (Ubuntu 20.04.1 LTS) / x86_64 | [ OK ] | OK | OK | ![]() | |||||
riesling1 | Windows Server 2019 Standard / x64 | OK | OK | OK |
Package: WES.1KG.WUGSC |
Version: 1.23.0 |
Command: /home/biocbuild/bbs-3.13-bioc/R/bin/R CMD INSTALL WES.1KG.WUGSC |
StartedAt: 2021-01-14 09:49:56 -0500 (Thu, 14 Jan 2021) |
EndedAt: 2021-01-14 09:50:38 -0500 (Thu, 14 Jan 2021) |
EllapsedTime: 41.7 seconds |
RetCode: 0 |
Status: OK |
############################################################################## ############################################################################## ### ### Running command: ### ### /home/biocbuild/bbs-3.13-bioc/R/bin/R CMD INSTALL WES.1KG.WUGSC ### ############################################################################## ############################################################################## * installing to library ‘/home/biocbuild/bbs-3.13-bioc/R/library’ * installing *source* package ‘WES.1KG.WUGSC’ ... ** using staged installation ** inst ** help No man pages found in package ‘WES.1KG.WUGSC’ *** installing help indices ** building package indices ** installing vignettes ** testing if installed package can be loaded from temporary location ** testing if installed package can be loaded from final location ** testing if installed package keeps a record of temporary installation path * DONE (WES.1KG.WUGSC)