Back to Multiple platform build/check report for BioC 3.13 experimental data
ABCDEFG[H]IJKLMNOPQRSTUVWXYZ

BUILD report for hgu133abarcodevecs on malbec2

This page was generated on 2021-01-21 16:01:12 -0500 (Thu, 21 Jan 2021).

TO THE DEVELOPERS/MAINTAINERS OF THE hgu133abarcodevecs PACKAGE: Please make sure to use the following settings in order to reproduce any error or warning you see on this page.
Package 168/386HostnameOS / ArchINSTALLBUILDCHECK
hgu133abarcodevecs 1.29.0
Matthew N. McCall
Snapshot Date: 2021-01-21 09:00:14 -0500 (Thu, 21 Jan 2021)
URL: https://git.bioconductor.org/packages/hgu133abarcodevecs
Branch: master
Last Commit: b395950
Last Changed Date: 2020-10-27 09:51:42 -0500 (Tue, 27 Oct 2020)
malbec2 Linux (Ubuntu 20.04.1 LTS) / x86_64  OK [ OK ] OK UNNEEDED, same version exists in internal repository
riesling1 Windows Server 2019 Standard / x64  OK  OK  OK 

Summary

Package: hgu133abarcodevecs
Version: 1.29.0
Command: /home/biocbuild/bbs-3.13-bioc/R/bin/R CMD build --keep-empty-dirs --no-resave-data hgu133abarcodevecs
StartedAt: 2021-01-21 10:58:00 -0500 (Thu, 21 Jan 2021)
EndedAt: 2021-01-21 10:58:01 -0500 (Thu, 21 Jan 2021)
EllapsedTime: 0.7 seconds
RetCode: 0
Status:  OK 
PackageFile: hgu133abarcodevecs_1.29.0.tar.gz
PackageFileSize: 501 KiB

Command output

##############################################################################
##############################################################################
###
### Running command:
###
###   /home/biocbuild/bbs-3.13-bioc/R/bin/R CMD build --keep-empty-dirs --no-resave-data hgu133abarcodevecs
###
##############################################################################
##############################################################################


* checking for file ‘hgu133abarcodevecs/DESCRIPTION’ ... OK
* preparing ‘hgu133abarcodevecs’:
* checking DESCRIPTION meta-information ... OK
* checking for LF line-endings in source and make files and shell scripts
* checking for empty or unneeded directories
* looking to see if a ‘data/datalist’ file should be added
* building ‘hgu133abarcodevecs_1.29.0.tar.gz’