Back to Multiple platform build/check report for BioC 3.13 experimental data
A[B]CDEFGHIJKLMNOPQRSTUVWXYZ

BUILD report for brgedata on malbec2

This page was generated on 2021-01-11 15:59:20 -0500 (Mon, 11 Jan 2021).

TO THE DEVELOPERS/MAINTAINERS OF THE brgedata PACKAGE: Please make sure to use the following settings in order to reproduce any error or warning you see on this page.
Package 41/385HostnameOS / ArchINSTALLBUILDCHECK
brgedata 1.13.0
Carlos Ruiz-Arenas
Snapshot Date: 2021-01-11 09:00:09 -0500 (Mon, 11 Jan 2021)
URL: https://git.bioconductor.org/packages/brgedata
Branch: master
Last Commit: c9c7e98
Last Changed Date: 2020-10-27 10:23:31 -0500 (Tue, 27 Oct 2020)
malbec2 Linux (Ubuntu 20.04.1 LTS) / x86_64  OK [ OK ] WARNINGS UNNEEDED, same version exists in internal repository
riesling1 Windows Server 2019 Standard / x64  OK  OK  WARNINGS 

Summary

Package: brgedata
Version: 1.13.0
Command: /home/biocbuild/bbs-3.13-bioc/R/bin/R CMD build --keep-empty-dirs --no-resave-data brgedata
StartedAt: 2021-01-11 10:19:40 -0500 (Mon, 11 Jan 2021)
EndedAt: 2021-01-11 10:24:59 -0500 (Mon, 11 Jan 2021)
EllapsedTime: 319.0 seconds
RetCode: 0
Status:  OK 
PackageFile: brgedata_1.13.0.tar.gz
PackageFileSize: 283.3 MiB

Command output

##############################################################################
##############################################################################
###
### Running command:
###
###   /home/biocbuild/bbs-3.13-bioc/R/bin/R CMD build --keep-empty-dirs --no-resave-data brgedata
###
##############################################################################
##############################################################################


* checking for file ‘brgedata/DESCRIPTION’ ... OK
* preparing ‘brgedata’:
* checking DESCRIPTION meta-information ... OK
* installing the package to build vignettes
* creating vignettes ... OK
* checking for LF line-endings in source and make files and shell scripts
* checking for empty or unneeded directories
* building ‘brgedata_1.13.0.tar.gz’