Back to Multiple platform build/check report for BioC 3.13 experimental data
ABCDEFGHIJKLMNOPQR[S]TUVWXYZ

BUILD report for SpikeInSubset on malbec2

This page was generated on 2021-01-18 15:58:40 -0500 (Mon, 18 Jan 2021).

TO THE DEVELOPERS/MAINTAINERS OF THE SpikeInSubset PACKAGE: Please make sure to use the following settings in order to reproduce any error or warning you see on this page.
Package 343/385HostnameOS / ArchINSTALLBUILDCHECK
SpikeInSubset 1.31.0
Rafael A. Irizarry
Snapshot Date: 2021-01-18 09:00:15 -0500 (Mon, 18 Jan 2021)
URL: https://git.bioconductor.org/packages/SpikeInSubset
Branch: master
Last Commit: a23e23d
Last Changed Date: 2020-10-27 09:47:05 -0500 (Tue, 27 Oct 2020)
malbec2 Linux (Ubuntu 20.04.1 LTS) / x86_64  OK [ OK ] WARNINGS UNNEEDED, same version exists in internal repository
riesling1 Windows Server 2019 Standard / x64  OK  OK  WARNINGS 

Summary

Package: SpikeInSubset
Version: 1.31.0
Command: /home/biocbuild/bbs-3.13-bioc/R/bin/R CMD build --keep-empty-dirs --no-resave-data SpikeInSubset
StartedAt: 2021-01-18 11:28:03 -0500 (Mon, 18 Jan 2021)
EndedAt: 2021-01-18 11:28:06 -0500 (Mon, 18 Jan 2021)
EllapsedTime: 3.6 seconds
RetCode: 0
Status:  OK 
PackageFile: SpikeInSubset_1.31.0.tar.gz
PackageFileSize: 17.99 MiB

Command output

##############################################################################
##############################################################################
###
### Running command:
###
###   /home/biocbuild/bbs-3.13-bioc/R/bin/R CMD build --keep-empty-dirs --no-resave-data SpikeInSubset
###
##############################################################################
##############################################################################


* checking for file ‘SpikeInSubset/DESCRIPTION’ ... OK
* preparing ‘SpikeInSubset’:
* checking DESCRIPTION meta-information ... OK
* checking for LF line-endings in source and make files and shell scripts
* checking for empty or unneeded directories
* looking to see if a ‘data/datalist’ file should be added
* building ‘SpikeInSubset_1.31.0.tar.gz’