Back to Multiple platform build/check report for BioC 3.13 experimental data
AB[C]DEFGHIJKLMNOPQRSTUVWXYZ

INSTALL report for curatedBladderData on malbec2

This page was generated on 2021-01-21 16:01:06 -0500 (Thu, 21 Jan 2021).

TO THE DEVELOPERS/MAINTAINERS OF THE curatedBladderData PACKAGE: Please make sure to use the following settings in order to reproduce any error or warning you see on this page.
Package 82/386HostnameOS / ArchINSTALLBUILDCHECK
curatedBladderData 1.27.0
Markus Riester
Snapshot Date: 2021-01-21 09:00:14 -0500 (Thu, 21 Jan 2021)
URL: https://git.bioconductor.org/packages/curatedBladderData
Branch: master
Last Commit: d804766
Last Changed Date: 2020-10-27 10:05:27 -0500 (Tue, 27 Oct 2020)
malbec2 Linux (Ubuntu 20.04.1 LTS) / x86_64 [ OK ] OK  OK UNNEEDED, same version exists in internal repository
riesling1 Windows Server 2019 Standard / x64  OK  OK  OK 

Summary

Package: curatedBladderData
Version: 1.27.0
Command: /home/biocbuild/bbs-3.13-bioc/R/bin/R CMD INSTALL curatedBladderData
StartedAt: 2021-01-21 09:55:46 -0500 (Thu, 21 Jan 2021)
EndedAt: 2021-01-21 09:55:54 -0500 (Thu, 21 Jan 2021)
EllapsedTime: 8.0 seconds
RetCode: 0
Status:  OK 

Command output

##############################################################################
##############################################################################
###
### Running command:
###
###   /home/biocbuild/bbs-3.13-bioc/R/bin/R CMD INSTALL curatedBladderData
###
##############################################################################
##############################################################################


* installing to library ‘/home/biocbuild/bbs-3.13-bioc/R/library’
* installing *source* package ‘curatedBladderData’ ...
** using staged installation
** data
** inst
** help
*** installing help indices
** building package indices
** installing vignettes
** testing if installed package can be loaded from temporary location
** testing if installed package can be loaded from final location
** testing if installed package keeps a record of temporary installation path
* DONE (curatedBladderData)