Back to Multiple platform build/check report for BioC 3.13 experimental data
AB[C]DEFGHIJKLMNOPQRSTUVWXYZ

BUILD report for ceu1kgv on malbec2

This page was generated on 2021-01-21 16:01:04 -0500 (Thu, 21 Jan 2021).

TO THE DEVELOPERS/MAINTAINERS OF THE ceu1kgv PACKAGE: Please make sure to use the following settings in order to reproduce any error or warning you see on this page.
Package 53/386HostnameOS / ArchINSTALLBUILDCHECK
ceu1kgv 0.33.1
VJ Carey
Snapshot Date: 2021-01-21 09:00:14 -0500 (Thu, 21 Jan 2021)
URL: https://git.bioconductor.org/packages/ceu1kgv
Branch: master
Last Commit: aaa6b5c
Last Changed Date: 2020-11-30 08:19:41 -0500 (Mon, 30 Nov 2020)
malbec2 Linux (Ubuntu 20.04.1 LTS) / x86_64  ERROR [ ERROR ] skipped 
riesling1 Windows Server 2019 Standard / x64  ERROR  ERROR  skipped 

Summary

Package: ceu1kgv
Version: 0.33.1
Command: /home/biocbuild/bbs-3.13-bioc/R/bin/R CMD build --keep-empty-dirs --no-resave-data ceu1kgv
StartedAt: 2021-01-21 10:25:16 -0500 (Thu, 21 Jan 2021)
EndedAt: 2021-01-21 10:25:22 -0500 (Thu, 21 Jan 2021)
EllapsedTime: 5.8 seconds
RetCode: 1
Status:  ERROR 
PackageFile: None
PackageFileSize: NA

Command output

##############################################################################
##############################################################################
###
### Running command:
###
###   /home/biocbuild/bbs-3.13-bioc/R/bin/R CMD build --keep-empty-dirs --no-resave-data ceu1kgv
###
##############################################################################
##############################################################################


* checking for file ‘ceu1kgv/DESCRIPTION’ ... OK
* preparing ‘ceu1kgv’:
* checking DESCRIPTION meta-information ... OK
* installing the package to build vignettes
      -----------------------------------
ERROR: dependency ‘GGBase’ is not available for package ‘ceu1kgv’
* removing ‘/tmp/RtmpvRiemJ/Rinst3879aa27a917b7/ceu1kgv’
      -----------------------------------
ERROR: package installation failed