Back to Multiple platform build/check report for BioC 3.13 experimental data
ABCDE[F]GHIJKLMNOPQRSTUVWXYZ

INSTALL report for FIs on malbec2

This page was generated on 2021-01-14 15:59:00 -0500 (Thu, 14 Jan 2021).

TO THE DEVELOPERS/MAINTAINERS OF THE FIs PACKAGE: Please make sure to use the following settings in order to reproduce any error or warning you see on this page.
Package 121/385HostnameOS / ArchINSTALLBUILDCHECK
FIs 1.19.0
Herbert Braselmann , Martin Selmansberger
Snapshot Date: 2021-01-14 09:00:13 -0500 (Thu, 14 Jan 2021)
URL: https://git.bioconductor.org/packages/FIs
Branch: master
Last Commit: 204373f
Last Changed Date: 2020-10-27 10:15:32 -0500 (Tue, 27 Oct 2020)
malbec2 Linux (Ubuntu 20.04.1 LTS) / x86_64 [ OK ] OK  OK UNNEEDED, same version exists in internal repository
riesling1 Windows Server 2019 Standard / x64  OK  OK  OK 

Summary

Package: FIs
Version: 1.19.0
Command: /home/biocbuild/bbs-3.13-bioc/R/bin/R CMD INSTALL FIs
StartedAt: 2021-01-14 09:53:14 -0500 (Thu, 14 Jan 2021)
EndedAt: 2021-01-14 09:53:17 -0500 (Thu, 14 Jan 2021)
EllapsedTime: 3.0 seconds
RetCode: 0
Status:  OK 

Command output

##############################################################################
##############################################################################
###
### Running command:
###
###   /home/biocbuild/bbs-3.13-bioc/R/bin/R CMD INSTALL FIs
###
##############################################################################
##############################################################################


* installing to library ‘/home/biocbuild/bbs-3.13-bioc/R/library’
* installing *source* package ‘FIs’ ...
** using staged installation
** data
** help
*** installing help indices
** building package indices
** testing if installed package can be loaded from temporary location
** testing if installed package can be loaded from final location
** testing if installed package keeps a record of temporary installation path
* DONE (FIs)