Back to Multiple platform build/check report for BioC 3.13 experimental data
ABCDEFG[H]IJKLMNOPQRSTUVWXYZ

INSTALL report for hgu133plus2CellScore on malbec2

This page was generated on 2021-01-21 16:01:12 -0500 (Thu, 21 Jan 2021).

TO THE DEVELOPERS/MAINTAINERS OF THE hgu133plus2CellScore PACKAGE: Please make sure to use the following settings in order to reproduce any error or warning you see on this page.
Package 170/386HostnameOS / ArchINSTALLBUILDCHECK
hgu133plus2CellScore 1.11.0
Nancy Mah
Snapshot Date: 2021-01-21 09:00:14 -0500 (Thu, 21 Jan 2021)
URL: https://git.bioconductor.org/packages/hgu133plus2CellScore
Branch: master
Last Commit: 38c21dd
Last Changed Date: 2020-10-27 10:26:08 -0500 (Tue, 27 Oct 2020)
malbec2 Linux (Ubuntu 20.04.1 LTS) / x86_64 [ OK ] OK  OK UNNEEDED, same version exists in internal repository
riesling1 Windows Server 2019 Standard / x64  OK  OK  OK 

Summary

Package: hgu133plus2CellScore
Version: 1.11.0
Command: /home/biocbuild/bbs-3.13-bioc/R/bin/R CMD INSTALL hgu133plus2CellScore
StartedAt: 2021-01-21 09:54:52 -0500 (Thu, 21 Jan 2021)
EndedAt: 2021-01-21 09:55:19 -0500 (Thu, 21 Jan 2021)
EllapsedTime: 26.9 seconds
RetCode: 0
Status:  OK 

Command output

##############################################################################
##############################################################################
###
### Running command:
###
###   /home/biocbuild/bbs-3.13-bioc/R/bin/R CMD INSTALL hgu133plus2CellScore
###
##############################################################################
##############################################################################


* installing to library ‘/home/biocbuild/bbs-3.13-bioc/R/library’
* installing *source* package ‘hgu133plus2CellScore’ ...
** using staged installation
** R
** data
*** moving datasets to lazyload DB
** byte-compile and prepare package for lazy loading
** help
*** installing help indices
** building package indices
** installing vignettes
** testing if installed package can be loaded from temporary location
** testing if installed package can be loaded from final location
** testing if installed package keeps a record of temporary installation path
* DONE (hgu133plus2CellScore)