Back to Multiple platform build/check report for BioC 3.13 experimental data
ABCDEFGHIJKLMNOPQRS[T]UVWXYZ

BUILD report for TCGAcrcmRNA on malbec2

This page was generated on 2021-01-14 15:59:06 -0500 (Thu, 14 Jan 2021).

TO THE DEVELOPERS/MAINTAINERS OF THE TCGAcrcmRNA PACKAGE: Please make sure to use the following settings in order to reproduce any error or warning you see on this page.
Package 357/385HostnameOS / ArchINSTALLBUILDCHECK
TCGAcrcmRNA 1.11.0
Claudio Isella
Snapshot Date: 2021-01-14 09:00:13 -0500 (Thu, 14 Jan 2021)
URL: https://git.bioconductor.org/packages/TCGAcrcmRNA
Branch: master
Last Commit: 0e340e9
Last Changed Date: 2020-10-27 10:09:59 -0500 (Tue, 27 Oct 2020)
malbec2 Linux (Ubuntu 20.04.1 LTS) / x86_64  OK [ OK ] OK UNNEEDED, same version exists in internal repository
riesling1 Windows Server 2019 Standard / x64  OK  OK  OK 

Summary

Package: TCGAcrcmRNA
Version: 1.11.0
Command: /home/biocbuild/bbs-3.13-bioc/R/bin/R CMD build --keep-empty-dirs --no-resave-data TCGAcrcmRNA
StartedAt: 2021-01-14 11:34:13 -0500 (Thu, 14 Jan 2021)
EndedAt: 2021-01-14 11:34:24 -0500 (Thu, 14 Jan 2021)
EllapsedTime: 11.1 seconds
RetCode: 0
Status:  OK 
PackageFile: TCGAcrcmRNA_1.11.0.tar.gz
PackageFileSize: 35.26 MiB

Command output

##############################################################################
##############################################################################
###
### Running command:
###
###   /home/biocbuild/bbs-3.13-bioc/R/bin/R CMD build --keep-empty-dirs --no-resave-data TCGAcrcmRNA
###
##############################################################################
##############################################################################


* checking for file ‘TCGAcrcmRNA/DESCRIPTION’ ... OK
* preparing ‘TCGAcrcmRNA’:
* checking DESCRIPTION meta-information ... OK
* installing the package to build vignettes
* creating vignettes ... OK
* checking for LF line-endings in source and make files and shell scripts
* checking for empty or unneeded directories
* looking to see if a ‘data/datalist’ file should be added
* building ‘TCGAcrcmRNA_1.11.0.tar.gz’