Back to Multiple platform build/check report for BioC 3.13 experimental data
ABCDEFGHIJKLMNOPQR[S]TUVWXYZ

BUILD report for shinyMethylData on malbec2

This page was generated on 2021-01-14 15:59:05 -0500 (Thu, 14 Jan 2021).

TO THE DEVELOPERS/MAINTAINERS OF THE shinyMethylData PACKAGE: Please make sure to use the following settings in order to reproduce any error or warning you see on this page.
Package 331/385HostnameOS / ArchINSTALLBUILDCHECK
shinyMethylData 1.11.0
Jean-Philippe Fortin
Snapshot Date: 2021-01-14 09:00:13 -0500 (Thu, 14 Jan 2021)
URL: https://git.bioconductor.org/packages/shinyMethylData
Branch: master
Last Commit: c40d3ae
Last Changed Date: 2020-10-27 10:09:29 -0500 (Tue, 27 Oct 2020)
malbec2 Linux (Ubuntu 20.04.1 LTS) / x86_64  OK [ OK ] OK UNNEEDED, same version exists in internal repository
riesling1 Windows Server 2019 Standard / x64  OK  OK  OK 

Summary

Package: shinyMethylData
Version: 1.11.0
Command: /home/biocbuild/bbs-3.13-bioc/R/bin/R CMD build --keep-empty-dirs --no-resave-data shinyMethylData
StartedAt: 2021-01-14 11:29:45 -0500 (Thu, 14 Jan 2021)
EndedAt: 2021-01-14 11:29:50 -0500 (Thu, 14 Jan 2021)
EllapsedTime: 5.5 seconds
RetCode: 0
Status:  OK 
PackageFile: shinyMethylData_1.11.0.tar.gz
PackageFileSize: 35.58 MiB

Command output

##############################################################################
##############################################################################
###
### Running command:
###
###   /home/biocbuild/bbs-3.13-bioc/R/bin/R CMD build --keep-empty-dirs --no-resave-data shinyMethylData
###
##############################################################################
##############################################################################


* checking for file ‘shinyMethylData/DESCRIPTION’ ... OK
* preparing ‘shinyMethylData’:
* checking DESCRIPTION meta-information ... OK
* checking for LF line-endings in source and make files and shell scripts
* checking for empty or unneeded directories
* building ‘shinyMethylData_1.11.0.tar.gz’