Back to Multiple platform build/check report for BioC 3.13 experimental data
ABCDE[F]GHIJKLMNOPQRSTUVWXYZ

CHECK report for ffpeExampleData on malbec2

This page was generated on 2021-01-14 15:59:00 -0500 (Thu, 14 Jan 2021).

TO THE DEVELOPERS/MAINTAINERS OF THE ffpeExampleData PACKAGE: Please make sure to use the following settings in order to reproduce any error or warning you see on this page.
Package 118/385HostnameOS / ArchINSTALLBUILDCHECK
ffpeExampleData 1.29.0
Levi Waldron
Snapshot Date: 2021-01-14 09:00:13 -0500 (Thu, 14 Jan 2021)
URL: https://git.bioconductor.org/packages/ffpeExampleData
Branch: master
Last Commit: 911bacc
Last Changed Date: 2020-10-27 09:55:21 -0500 (Tue, 27 Oct 2020)
malbec2 Linux (Ubuntu 20.04.1 LTS) / x86_64  OK  OK [ OK ]UNNEEDED, same version exists in internal repository
riesling1 Windows Server 2019 Standard / x64  OK  OK  OK 

Summary

Package: ffpeExampleData
Version: 1.29.0
Command: /home/biocbuild/bbs-3.13-bioc/R/bin/R CMD check --install=check:ffpeExampleData.install-out.txt --library=/home/biocbuild/bbs-3.13-bioc/R/library --no-vignettes --timings ffpeExampleData_1.29.0.tar.gz
StartedAt: 2021-01-14 12:03:42 -0500 (Thu, 14 Jan 2021)
EndedAt: 2021-01-14 12:05:59 -0500 (Thu, 14 Jan 2021)
EllapsedTime: 137.5 seconds
RetCode: 0
Status:  OK 
CheckDir: ffpeExampleData.Rcheck
Warnings: 0

Command output

##############################################################################
##############################################################################
###
### Running command:
###
###   /home/biocbuild/bbs-3.13-bioc/R/bin/R CMD check --install=check:ffpeExampleData.install-out.txt --library=/home/biocbuild/bbs-3.13-bioc/R/library --no-vignettes --timings ffpeExampleData_1.29.0.tar.gz
###
##############################################################################
##############################################################################


* using log directory ‘/home/biocbuild/bbs-3.13-data-experiment/meat/ffpeExampleData.Rcheck’
* using R Under development (unstable) (2021-01-05 r79797)
* using platform: x86_64-pc-linux-gnu (64-bit)
* using session charset: UTF-8
* using option ‘--no-vignettes’
* checking for file ‘ffpeExampleData/DESCRIPTION’ ... OK
* checking extension type ... Package
* this is package ‘ffpeExampleData’ version ‘1.29.0’
* checking package namespace information ... OK
* checking package dependencies ... OK
* checking if this is a source package ... OK
* checking if there is a namespace ... OK
* checking for hidden files and directories ... NOTE
Found the following hidden files and directories:
  .git_fetch_output.txt
  .git_merge_output.txt
These were most likely included in error. See section ‘Package
structure’ in the ‘Writing R Extensions’ manual.
* checking for portable file names ... OK
* checking for sufficient/correct file permissions ... OK
* checking whether package ‘ffpeExampleData’ can be installed ... OK
* checking installed package size ... NOTE
  installed size is  6.8Mb
  sub-directories of 1Mb or more:
    data   6.7Mb
* checking package directory ... OK
* checking DESCRIPTION meta-information ... OK
* checking top-level files ... OK
* checking for left-over files ... OK
* checking index information ... OK
* checking package subdirectories ... OK
* checking whether the package can be loaded ... OK
* checking whether the package can be loaded with stated dependencies ... OK
* checking whether the package can be unloaded cleanly ... OK
* checking whether the namespace can be loaded with stated dependencies ... OK
* checking whether the namespace can be unloaded cleanly ... OK
* checking Rd files ... OK
* checking Rd metadata ... OK
* checking Rd cross-references ... OK
* checking for missing documentation entries ... OK
* checking for code/documentation mismatches ... OK
* checking Rd \usage sections ... OK
* checking Rd contents ... OK
* checking for unstated dependencies in examples ... OK
* checking contents of ‘data’ directory ... OK
* checking data for non-ASCII characters ... OK
* checking data for ASCII and uncompressed saves ... OK
* checking examples ... OK
* checking PDF version of manual ... OK
* DONE

Status: 2 NOTEs
See
  ‘/home/biocbuild/bbs-3.13-data-experiment/meat/ffpeExampleData.Rcheck/00check.log’
for details.



Installation output

ffpeExampleData.Rcheck/00install.out

##############################################################################
##############################################################################
###
### Running command:
###
###   /home/biocbuild/bbs-3.13-bioc/R/bin/R CMD INSTALL ffpeExampleData
###
##############################################################################
##############################################################################


* installing to library ‘/home/biocbuild/bbs-3.13-bioc/R/library’
* installing *source* package ‘ffpeExampleData’ ...
** using staged installation
** data
** help
*** installing help indices
** building package indices
** testing if installed package can be loaded from temporary location
No methods found in package ‘RSQLite’ for request: ‘dbListFields’ when loading ‘lumi’
** testing if installed package can be loaded from final location
No methods found in package ‘RSQLite’ for request: ‘dbListFields’ when loading ‘lumi’
** testing if installed package keeps a record of temporary installation path
* DONE (ffpeExampleData)

Tests output


Example timings

ffpeExampleData.Rcheck/ffpeExampleData-Ex.timings

nameusersystemelapsed
ffpeExampleData-package2.1130.0602.173
lumibatch.GSE175650.7050.0200.724