Back to Multiple platform build/check report for BioC 3.13 experimental data
ABCDEFGHIJKLMNOPQR[S]TUVWXYZ

BUILD report for SingleCellMultiModal on malbec2

This page was generated on 2021-01-21 16:01:21 -0500 (Thu, 21 Jan 2021).

TO THE DEVELOPERS/MAINTAINERS OF THE SingleCellMultiModal PACKAGE: Please make sure to use the following settings in order to reproduce any error or warning you see on this page.
Package 336/386HostnameOS / ArchINSTALLBUILDCHECK
SingleCellMultiModal 1.3.9
Marcel Ramos
Snapshot Date: 2021-01-21 09:00:14 -0500 (Thu, 21 Jan 2021)
URL: https://git.bioconductor.org/packages/SingleCellMultiModal
Branch: master
Last Commit: 704c669
Last Changed Date: 2021-01-19 14:18:14 -0500 (Tue, 19 Jan 2021)
malbec2 Linux (Ubuntu 20.04.1 LTS) / x86_64  OK [ OK ] OK YES, new version is higher than in internal repository
riesling1 Windows Server 2019 Standard / x64  OK  OK  ERROR 

Summary

Package: SingleCellMultiModal
Version: 1.3.9
Command: /home/biocbuild/bbs-3.13-bioc/R/bin/R CMD build --keep-empty-dirs --no-resave-data SingleCellMultiModal
StartedAt: 2021-01-21 11:27:20 -0500 (Thu, 21 Jan 2021)
EndedAt: 2021-01-21 11:36:55 -0500 (Thu, 21 Jan 2021)
EllapsedTime: 575.2 seconds
RetCode: 0
Status:  OK 
PackageFile: SingleCellMultiModal_1.3.9.tar.gz
PackageFileSize: 2.319 MiB

Command output

##############################################################################
##############################################################################
###
### Running command:
###
###   /home/biocbuild/bbs-3.13-bioc/R/bin/R CMD build --keep-empty-dirs --no-resave-data SingleCellMultiModal
###
##############################################################################
##############################################################################


* checking for file ‘SingleCellMultiModal/DESCRIPTION’ ... OK
* preparing ‘SingleCellMultiModal’:
* checking DESCRIPTION meta-information ... OK
* installing the package to build vignettes
* creating vignettes ... OK
* checking for LF line-endings in source and make files and shell scripts
* checking for empty or unneeded directories
* building ‘SingleCellMultiModal_1.3.9.tar.gz’