Back to Multiple platform build/check report for BioC 3.13 experimental data
ABCDEF[G]HIJKLMNOPQRSTUVWXYZ

BUILD report for grndata on malbec2

This page was generated on 2021-01-11 15:59:22 -0500 (Mon, 11 Jan 2021).

TO THE DEVELOPERS/MAINTAINERS OF THE grndata PACKAGE: Please make sure to use the following settings in order to reproduce any error or warning you see on this page.
Package 146/385HostnameOS / ArchINSTALLBUILDCHECK
grndata 1.23.0
Pau Bellot
Snapshot Date: 2021-01-11 09:00:09 -0500 (Mon, 11 Jan 2021)
URL: https://git.bioconductor.org/packages/grndata
Branch: master
Last Commit: bd81c00
Last Changed Date: 2020-10-27 10:11:46 -0500 (Tue, 27 Oct 2020)
malbec2 Linux (Ubuntu 20.04.1 LTS) / x86_64  OK [ OK ] OK UNNEEDED, same version exists in internal repository
riesling1 Windows Server 2019 Standard / x64  OK  OK  OK 

Summary

Package: grndata
Version: 1.23.0
Command: /home/biocbuild/bbs-3.13-bioc/R/bin/R CMD build --keep-empty-dirs --no-resave-data grndata
StartedAt: 2021-01-11 10:53:59 -0500 (Mon, 11 Jan 2021)
EndedAt: 2021-01-11 10:54:23 -0500 (Mon, 11 Jan 2021)
EllapsedTime: 23.8 seconds
RetCode: 0
Status:  OK 
PackageFile: grndata_1.23.0.tar.gz
PackageFileSize: 30.15 MiB

Command output

##############################################################################
##############################################################################
###
### Running command:
###
###   /home/biocbuild/bbs-3.13-bioc/R/bin/R CMD build --keep-empty-dirs --no-resave-data grndata
###
##############################################################################
##############################################################################


* checking for file ‘grndata/DESCRIPTION’ ... OK
* preparing ‘grndata’:
* checking DESCRIPTION meta-information ... OK
* installing the package to build vignettes
* creating vignettes ... OK
* checking for LF line-endings in source and make files and shell scripts
* checking for empty or unneeded directories
* building ‘grndata_1.23.0.tar.gz’