Back to Multiple platform build/check report for BioC 3.13 experimental data
ABCDEFGHIJ[K]LMNOPQRSTUVWXYZ

INSTALL report for KEGGdzPathwaysGEO on malbec2

This page was generated on 2021-01-21 16:01:13 -0500 (Thu, 21 Jan 2021).

TO THE DEVELOPERS/MAINTAINERS OF THE KEGGdzPathwaysGEO PACKAGE: Please make sure to use the following settings in order to reproduce any error or warning you see on this page.
Package 192/386HostnameOS / ArchINSTALLBUILDCHECK
KEGGdzPathwaysGEO 1.29.0
Gaurav Bhatti
Snapshot Date: 2021-01-21 09:00:14 -0500 (Thu, 21 Jan 2021)
URL: https://git.bioconductor.org/packages/KEGGdzPathwaysGEO
Branch: master
Last Commit: 71b93f9
Last Changed Date: 2020-10-27 09:56:50 -0500 (Tue, 27 Oct 2020)
malbec2 Linux (Ubuntu 20.04.1 LTS) / x86_64 [ OK ] OK  OK UNNEEDED, same version exists in internal repository
riesling1 Windows Server 2019 Standard / x64  OK  OK  OK 

Summary

Package: KEGGdzPathwaysGEO
Version: 1.29.0
Command: /home/biocbuild/bbs-3.13-bioc/R/bin/R CMD INSTALL KEGGdzPathwaysGEO
StartedAt: 2021-01-21 09:56:20 -0500 (Thu, 21 Jan 2021)
EndedAt: 2021-01-21 09:56:32 -0500 (Thu, 21 Jan 2021)
EllapsedTime: 12.0 seconds
RetCode: 0
Status:  OK 

Command output

##############################################################################
##############################################################################
###
### Running command:
###
###   /home/biocbuild/bbs-3.13-bioc/R/bin/R CMD INSTALL KEGGdzPathwaysGEO
###
##############################################################################
##############################################################################


* installing to library ‘/home/biocbuild/bbs-3.13-bioc/R/library’
* installing *source* package ‘KEGGdzPathwaysGEO’ ...
** using staged installation
** R
** data
** byte-compile and prepare package for lazy loading
** help
*** installing help indices
** building package indices
** testing if installed package can be loaded from temporary location
** testing if installed package can be loaded from final location
** testing if installed package keeps a record of temporary installation path
* DONE (KEGGdzPathwaysGEO)