Back to Build/check report for BioC 3.13 experimental data
ABCDEFGHIJK[L]MNOPQRSTUVWXYZ

This page was generated on 2021-09-16 16:00:01 -0400 (Thu, 16 Sep 2021).

All results for package leeBamViews

To the developers/maintainers of the leeBamViews package:
Make sure to use the following settings in order to reproduce any error or warning you see on this page.

raw results

Package 202/406HostnameOS / ArchINSTALLBUILDCHECK
leeBamViews 1.28.0  (landing page)
VJ Carey
Snapshot Date: 2021-09-16 09:30:04 -0400 (Thu, 16 Sep 2021)
URL: https://git.bioconductor.org/packages/leeBamViews
Branch: RELEASE_3_13
Last Commit: 8ed77ea
Last Changed Date: 2021-05-19 11:30:32 -0400 (Wed, 19 May 2021)
malbec2Linux (Ubuntu 20.04.2 LTS) / x86_64  OK    OK    OK  UNNEEDED, same version is already published