Back to Multiple platform build/check report for BioC 3.13 experimental data
ABCDEFG[H]IJKLMNOPQRSTUVWXYZ

INSTALL report for hmyriB36 on malbec2

This page was generated on 2021-01-21 16:01:12 -0500 (Thu, 21 Jan 2021).

TO THE DEVELOPERS/MAINTAINERS OF THE hmyriB36 PACKAGE: Please make sure to use the following settings in order to reproduce any error or warning you see on this page.
Package 179/386HostnameOS / ArchINSTALLBUILDCHECK
hmyriB36 1.27.1
Vincent Carey
Snapshot Date: 2021-01-21 09:00:14 -0500 (Thu, 21 Jan 2021)
URL: https://git.bioconductor.org/packages/hmyriB36
Branch: master
Last Commit: 6d8b85f
Last Changed Date: 2020-11-30 08:25:13 -0500 (Mon, 30 Nov 2020)
malbec2 Linux (Ubuntu 20.04.1 LTS) / x86_64 [ ERROR ] OK  ERROR 
riesling1 Windows Server 2019 Standard / x64  ERROR  OK  ERROR 

Summary

Package: hmyriB36
Version: 1.27.1
Command: /home/biocbuild/bbs-3.13-bioc/R/bin/R CMD INSTALL hmyriB36
StartedAt: 2021-01-21 10:16:01 -0500 (Thu, 21 Jan 2021)
EndedAt: 2021-01-21 10:16:02 -0500 (Thu, 21 Jan 2021)
EllapsedTime: 0.3 seconds
RetCode: 1
Status:  ERROR 

Command output

##############################################################################
##############################################################################
###
### Running command:
###
###   /home/biocbuild/bbs-3.13-bioc/R/bin/R CMD INSTALL hmyriB36
###
##############################################################################
##############################################################################


* installing to library ‘/home/biocbuild/bbs-3.13-bioc/R/library’
ERROR: dependency ‘GGBase’ is not available for package ‘hmyriB36’
* removing ‘/home/biocbuild/bbs-3.13-bioc/R/library/hmyriB36’