Back to Multiple platform build/check report for BioC 3.13 experimental data |
|
This page was generated on 2021-01-11 15:59:27 -0500 (Mon, 11 Jan 2021).
TO THE DEVELOPERS/MAINTAINERS OF THE TBX20BamSubset PACKAGE: Please make sure to use the following settings in order to reproduce any error or warning you see on this page. |
Package 354/385 | Hostname | OS / Arch | INSTALL | BUILD | CHECK | ||||||
TBX20BamSubset 1.27.0 D. Bindreither
| malbec2 | Linux (Ubuntu 20.04.1 LTS) / x86_64 | [ OK ] | OK | OK | ![]() | |||||
riesling1 | Windows Server 2019 Standard / x64 | OK | OK | OK |
Package: TBX20BamSubset |
Version: 1.27.0 |
Command: /home/biocbuild/bbs-3.13-bioc/R/bin/R CMD INSTALL TBX20BamSubset |
StartedAt: 2021-01-11 09:59:48 -0500 (Mon, 11 Jan 2021) |
EndedAt: 2021-01-11 10:00:25 -0500 (Mon, 11 Jan 2021) |
EllapsedTime: 37.0 seconds |
RetCode: 0 |
Status: OK |
############################################################################## ############################################################################## ### ### Running command: ### ### /home/biocbuild/bbs-3.13-bioc/R/bin/R CMD INSTALL TBX20BamSubset ### ############################################################################## ############################################################################## * installing to library ‘/home/biocbuild/bbs-3.13-bioc/R/library’ * installing *source* package ‘TBX20BamSubset’ ... ** using staged installation ** R ** inst ** byte-compile and prepare package for lazy loading ** help *** installing help indices ** building package indices ** installing vignettes ** testing if installed package can be loaded from temporary location ** testing if installed package can be loaded from final location ** testing if installed package keeps a record of temporary installation path * DONE (TBX20BamSubset)