Back to Multiple platform build/check report for BioC 3.13 experimental data
ABCDEFGHIJKL[M]NOPQRSTUVWXYZ

INSTALL report for MMDiffBamSubset on malbec2

This page was generated on 2021-01-21 16:01:15 -0500 (Thu, 21 Jan 2021).

TO THE DEVELOPERS/MAINTAINERS OF THE MMDiffBamSubset PACKAGE: Please make sure to use the following settings in order to reproduce any error or warning you see on this page.
Package 230/386HostnameOS / ArchINSTALLBUILDCHECK
MMDiffBamSubset 1.27.0
Gabriele Schweikert
Snapshot Date: 2021-01-21 09:00:14 -0500 (Thu, 21 Jan 2021)
URL: https://git.bioconductor.org/packages/MMDiffBamSubset
Branch: master
Last Commit: 209a507
Last Changed Date: 2020-10-27 10:01:49 -0500 (Tue, 27 Oct 2020)
malbec2 Linux (Ubuntu 20.04.1 LTS) / x86_64 [ OK ] OK  OK UNNEEDED, same version exists in internal repository
riesling1 Windows Server 2019 Standard / x64  OK  OK  OK 

Summary

Package: MMDiffBamSubset
Version: 1.27.0
Command: /home/biocbuild/bbs-3.13-bioc/R/bin/R CMD INSTALL MMDiffBamSubset
StartedAt: 2021-01-21 10:04:57 -0500 (Thu, 21 Jan 2021)
EndedAt: 2021-01-21 10:05:09 -0500 (Thu, 21 Jan 2021)
EllapsedTime: 12.4 seconds
RetCode: 0
Status:  OK 

Command output

##############################################################################
##############################################################################
###
### Running command:
###
###   /home/biocbuild/bbs-3.13-bioc/R/bin/R CMD INSTALL MMDiffBamSubset
###
##############################################################################
##############################################################################


* installing to library ‘/home/biocbuild/bbs-3.13-bioc/R/library’
* installing *source* package ‘MMDiffBamSubset’ ...
** using staged installation
** R
** inst
** byte-compile and prepare package for lazy loading
** help
*** installing help indices
** building package indices
** testing if installed package can be loaded from temporary location
** testing if installed package can be loaded from final location
** testing if installed package keeps a record of temporary installation path
* DONE (MMDiffBamSubset)