Back to Multiple platform build/check report for BioC 3.13 experimental data
ABCDEFG[H]IJKLMNOPQRSTUVWXYZ

CHECK report for Hiiragi2013 on malbec2

This page was generated on 2021-01-21 16:01:12 -0500 (Thu, 21 Jan 2021).

TO THE DEVELOPERS/MAINTAINERS OF THE Hiiragi2013 PACKAGE: Please make sure to use the following settings in order to reproduce any error or warning you see on this page.
Package 175/386HostnameOS / ArchINSTALLBUILDCHECK
Hiiragi2013 1.27.0
Andrzej Oles
Snapshot Date: 2021-01-21 09:00:14 -0500 (Thu, 21 Jan 2021)
URL: https://git.bioconductor.org/packages/Hiiragi2013
Branch: master
Last Commit: b179cf6
Last Changed Date: 2020-10-27 10:01:36 -0500 (Tue, 27 Oct 2020)
malbec2 Linux (Ubuntu 20.04.1 LTS) / x86_64  OK  OK [ OK ]UNNEEDED, same version exists in internal repository
riesling1 Windows Server 2019 Standard / x64  OK  OK  OK 

Summary

Package: Hiiragi2013
Version: 1.27.0
Command: /home/biocbuild/bbs-3.13-bioc/R/bin/R CMD check --install=check:Hiiragi2013.install-out.txt --library=/home/biocbuild/bbs-3.13-bioc/R/library --no-vignettes --timings Hiiragi2013_1.27.0.tar.gz
StartedAt: 2021-01-21 12:13:20 -0500 (Thu, 21 Jan 2021)
EndedAt: 2021-01-21 12:16:16 -0500 (Thu, 21 Jan 2021)
EllapsedTime: 176.1 seconds
RetCode: 0
Status:  OK 
CheckDir: Hiiragi2013.Rcheck
Warnings: 0

Command output

##############################################################################
##############################################################################
###
### Running command:
###
###   /home/biocbuild/bbs-3.13-bioc/R/bin/R CMD check --install=check:Hiiragi2013.install-out.txt --library=/home/biocbuild/bbs-3.13-bioc/R/library --no-vignettes --timings Hiiragi2013_1.27.0.tar.gz
###
##############################################################################
##############################################################################


* using log directory ‘/home/biocbuild/bbs-3.13-data-experiment/meat/Hiiragi2013.Rcheck’
* using R Under development (unstable) (2021-01-05 r79797)
* using platform: x86_64-pc-linux-gnu (64-bit)
* using session charset: UTF-8
* using option ‘--no-vignettes’
* checking for file ‘Hiiragi2013/DESCRIPTION’ ... OK
* checking extension type ... Package
* this is package ‘Hiiragi2013’ version ‘1.27.0’
* checking package namespace information ... OK
* checking package dependencies ... NOTE
Depends: includes the non-default packages:
  'affy', 'Biobase', 'boot', 'clue', 'cluster', 'genefilter',
  'geneplotter', 'gplots', 'gtools', 'KEGGREST', 'MASS',
  'mouse4302.db', 'RColorBrewer', 'xtable'
Adding so many packages to the search path is excessive and importing
selectively is preferable.
* checking if this is a source package ... OK
* checking if there is a namespace ... OK
* checking for hidden files and directories ... NOTE
Found the following hidden files and directories:
  .git_fetch_output.txt
  .git_merge_output.txt
These were most likely included in error. See section ‘Package
structure’ in the ‘Writing R Extensions’ manual.
* checking for portable file names ... OK
* checking for sufficient/correct file permissions ... OK
* checking whether package ‘Hiiragi2013’ can be installed ... OK
* checking installed package size ... NOTE
  installed size is 136.5Mb
  sub-directories of 1Mb or more:
    data  136.3Mb
* checking package directory ... OK
* checking ‘build’ directory ... OK
* checking DESCRIPTION meta-information ... OK
* checking top-level files ... OK
* checking for left-over files ... OK
* checking index information ... OK
* checking package subdirectories ... OK
* checking R files for non-ASCII characters ... OK
* checking R files for syntax errors ... OK
* checking whether the package can be loaded ... OK
* checking whether the package can be loaded with stated dependencies ... OK
* checking whether the package can be unloaded cleanly ... OK
* checking whether the namespace can be loaded with stated dependencies ... OK
* checking whether the namespace can be unloaded cleanly ... OK
* checking dependencies in R code ... NOTE
Packages in Depends field not imported from:
  ‘KEGGREST’ ‘affy’ ‘boot’ ‘clue’ ‘geneplotter’ ‘gtools’ ‘mouse4302.db’
  ‘xtable’
  These packages need to be imported from (in the NAMESPACE file)
  for when this namespace is loaded but not attached.
* checking S3 generic/method consistency ... OK
* checking replacement functions ... OK
* checking foreign function calls ... OK
* checking R code for possible problems ... NOTE
MDSplot: no visible global function definition for ‘dist’
MDSplot: no visible global function definition for ‘par’
MDSplot: no visible global function definition for ‘points’
MDSplot: no visible global function definition for ‘grey’
MDSplot: no visible global function definition for ‘text’
getDifferentialExpressedGenes: no visible global function definition
  for ‘quantile’
getDifferentialExpressedGenes: no visible global function definition
  for ‘p.adjust’
myHeatmap: no visible global function definition for ‘as.dendrogram’
myHeatmap: no visible global function definition for ‘hclust’
myHeatmap: no visible global function definition for ‘dist’
myHeatmap: no visible global function definition for ‘order.dendrogram’
myHeatmap2: no visible global function definition for
  ‘colorRampPalette’
ordermat : <anonymous>: no visible global function definition for
  ‘order.dendrogram’
ordermat : <anonymous>: no visible global function definition for
  ‘as.dendrogram’
ordermat : <anonymous>: no visible global function definition for
  ‘hclust’
ordermat : <anonymous>: no visible global function definition for
  ‘dist’
pamCluster: no visible global function definition for ‘dist’
Undefined global functions or variables:
  as.dendrogram colorRampPalette dist grey hclust order.dendrogram
  p.adjust par points quantile text
Consider adding
  importFrom("grDevices", "colorRampPalette", "grey")
  importFrom("graphics", "par", "points", "text")
  importFrom("stats", "as.dendrogram", "dist", "hclust",
             "order.dendrogram", "p.adjust", "quantile")
to your NAMESPACE file.
* checking Rd files ... OK
* checking Rd metadata ... OK
* checking Rd cross-references ... OK
* checking for missing documentation entries ... OK
* checking for code/documentation mismatches ... OK
* checking Rd \usage sections ... OK
* checking Rd contents ... OK
* checking for unstated dependencies in examples ... OK
* checking contents of ‘data’ directory ... OK
* checking data for non-ASCII characters ... OK
* checking data for ASCII and uncompressed saves ... OK
* checking files in ‘vignettes’ ... OK
* checking examples ... OK
Examples with CPU (user + system) or elapsed time > 5s
    user system elapsed
a 13.495  0.304  14.128
* checking for unstated dependencies in vignettes ... OK
* checking package vignettes in ‘inst/doc’ ... OK
* checking running R code from vignettes ... SKIPPED
* checking re-building of vignette outputs ... SKIPPED
* checking PDF version of manual ... OK
* DONE

Status: 5 NOTEs
See
  ‘/home/biocbuild/bbs-3.13-data-experiment/meat/Hiiragi2013.Rcheck/00check.log’
for details.



Installation output

Hiiragi2013.Rcheck/00install.out

##############################################################################
##############################################################################
###
### Running command:
###
###   /home/biocbuild/bbs-3.13-bioc/R/bin/R CMD INSTALL Hiiragi2013
###
##############################################################################
##############################################################################


* installing to library ‘/home/biocbuild/bbs-3.13-bioc/R/library’
* installing *source* package ‘Hiiragi2013’ ...
** using staged installation
** R
** data
** inst
** byte-compile and prepare package for lazy loading
** help
*** installing help indices
** building package indices
** installing vignettes
** testing if installed package can be loaded from temporary location
** testing if installed package can be loaded from final location
** testing if installed package keeps a record of temporary installation path
* DONE (Hiiragi2013)

Tests output


Example timings

Hiiragi2013.Rcheck/Hiiragi2013-Ex.timings

nameusersystemelapsed
MDSplot3.7410.1164.079
a13.495 0.30414.128
getDifferentialExpressedGenes3.3710.0803.451
myHeatmap3.6620.1003.776
myHeatmap20.0010.0000.000
pamCluster2.8660.0482.914
plotProjection000
x2.8370.0442.881
xq0.0060.0040.011
xql0.0040.0000.005