Back to Multiple platform build/check report for BioC 3.13 experimental data |
|
This page was generated on 2021-01-18 15:58:39 -0500 (Mon, 18 Jan 2021).
TO THE DEVELOPERS/MAINTAINERS OF THE RRBSdata PACKAGE: Please make sure to use the following settings in order to reproduce any error or warning you see on this page. |
Package 308/385 | Hostname | OS / Arch | INSTALL | BUILD | CHECK | ||||||
RRBSdata 1.11.0 Katja Hebestreit
| malbec2 | Linux (Ubuntu 20.04.1 LTS) / x86_64 | OK | [ OK ] | OK | ![]() | |||||
riesling1 | Windows Server 2019 Standard / x64 | OK | OK | OK |
Package: RRBSdata |
Version: 1.11.0 |
Command: /home/biocbuild/bbs-3.13-bioc/R/bin/R CMD build --keep-empty-dirs --no-resave-data RRBSdata |
StartedAt: 2021-01-18 11:18:21 -0500 (Mon, 18 Jan 2021) |
EndedAt: 2021-01-18 11:19:23 -0500 (Mon, 18 Jan 2021) |
EllapsedTime: 61.8 seconds |
RetCode: 0 |
Status: OK |
PackageFile: RRBSdata_1.11.0.tar.gz |
PackageFileSize: 73.94 MiB |
############################################################################## ############################################################################## ### ### Running command: ### ### /home/biocbuild/bbs-3.13-bioc/R/bin/R CMD build --keep-empty-dirs --no-resave-data RRBSdata ### ############################################################################## ############################################################################## * checking for file ‘RRBSdata/DESCRIPTION’ ... OK * preparing ‘RRBSdata’: * checking DESCRIPTION meta-information ... OK * installing the package to build vignettes * creating vignettes ... OK * checking for LF line-endings in source and make files and shell scripts * checking for empty or unneeded directories * looking to see if a ‘data/datalist’ file should be added * building ‘RRBSdata_1.11.0.tar.gz’