Back to Multiple platform build/check report for BioC 3.13 experimental data
ABCDEFGHIJKLMNOPQR[S]TUVWXYZ

BUILD report for sesameData on malbec2

This page was generated on 2021-01-14 15:59:05 -0500 (Thu, 14 Jan 2021).

TO THE DEVELOPERS/MAINTAINERS OF THE sesameData PACKAGE: Please make sure to use the following settings in order to reproduce any error or warning you see on this page.
Package 329/385HostnameOS / ArchINSTALLBUILDCHECK
sesameData 1.9.2
Wanding Zhou
Snapshot Date: 2021-01-14 09:00:13 -0500 (Thu, 14 Jan 2021)
URL: https://git.bioconductor.org/packages/sesameData
Branch: master
Last Commit: 985e1f7
Last Changed Date: 2021-01-13 15:50:49 -0500 (Wed, 13 Jan 2021)
malbec2 Linux (Ubuntu 20.04.1 LTS) / x86_64  OK [ OK ] OK YES, new version is higher than in internal repository
riesling1 Windows Server 2019 Standard / x64  OK  OK  OK 

Summary

Package: sesameData
Version: 1.9.2
Command: /home/biocbuild/bbs-3.13-bioc/R/bin/R CMD build --keep-empty-dirs --no-resave-data sesameData
StartedAt: 2021-01-14 11:28:20 -0500 (Thu, 14 Jan 2021)
EndedAt: 2021-01-14 11:29:58 -0500 (Thu, 14 Jan 2021)
EllapsedTime: 98.1 seconds
RetCode: 0
Status:  OK 
PackageFile: sesameData_1.9.2.tar.gz
PackageFileSize: 1.464 MiB

Command output

##############################################################################
##############################################################################
###
### Running command:
###
###   /home/biocbuild/bbs-3.13-bioc/R/bin/R CMD build --keep-empty-dirs --no-resave-data sesameData
###
##############################################################################
##############################################################################


* checking for file ‘sesameData/DESCRIPTION’ ... OK
* preparing ‘sesameData’:
* checking DESCRIPTION meta-information ... OK
* installing the package to build vignettes
* creating vignettes ... OK
* checking for LF line-endings in source and make files and shell scripts
* checking for empty or unneeded directories
* building ‘sesameData_1.9.2.tar.gz’