Back to Multiple platform build/check report for BioC 3.13 experimental data
ABCD[E]FGHIJKLMNOPQRSTUVWXYZ

INSTALL report for ecoliLeucine on malbec2

This page was generated on 2021-01-14 15:58:59 -0500 (Thu, 14 Jan 2021).

TO THE DEVELOPERS/MAINTAINERS OF THE ecoliLeucine PACKAGE: Please make sure to use the following settings in order to reproduce any error or warning you see on this page.
Package 109/385HostnameOS / ArchINSTALLBUILDCHECK
ecoliLeucine 1.31.0
Laurent Gautier
Snapshot Date: 2021-01-14 09:00:13 -0500 (Thu, 14 Jan 2021)
URL: https://git.bioconductor.org/packages/ecoliLeucine
Branch: master
Last Commit: 900b6bc
Last Changed Date: 2020-10-27 09:45:20 -0500 (Tue, 27 Oct 2020)
malbec2 Linux (Ubuntu 20.04.1 LTS) / x86_64 [ OK ] OK  WARNINGS UNNEEDED, same version exists in internal repository
riesling1 Windows Server 2019 Standard / x64  OK  OK  WARNINGS 

Summary

Package: ecoliLeucine
Version: 1.31.0
Command: /home/biocbuild/bbs-3.13-bioc/R/bin/R CMD INSTALL ecoliLeucine
StartedAt: 2021-01-14 09:59:02 -0500 (Thu, 14 Jan 2021)
EndedAt: 2021-01-14 09:59:12 -0500 (Thu, 14 Jan 2021)
EllapsedTime: 10.3 seconds
RetCode: 0
Status:  OK 

Command output

##############################################################################
##############################################################################
###
### Running command:
###
###   /home/biocbuild/bbs-3.13-bioc/R/bin/R CMD INSTALL ecoliLeucine
###
##############################################################################
##############################################################################


* installing to library ‘/home/biocbuild/bbs-3.13-bioc/R/library’
* installing *source* package ‘ecoliLeucine’ ...
** using staged installation
** data
** help
*** installing help indices
** building package indices
** testing if installed package can be loaded from temporary location
Warning: replacing previous import ‘AnnotationDbi::tail’ by ‘utils::tail’ when loading ‘ecolicdf’
Warning: replacing previous import ‘AnnotationDbi::head’ by ‘utils::head’ when loading ‘ecolicdf’
** testing if installed package can be loaded from final location
Warning: replacing previous import ‘AnnotationDbi::tail’ by ‘utils::tail’ when loading ‘ecolicdf’
Warning: replacing previous import ‘AnnotationDbi::head’ by ‘utils::head’ when loading ‘ecolicdf’
** testing if installed package keeps a record of temporary installation path
* DONE (ecoliLeucine)