Back to Multiple platform build/check report for BioC 3.13 experimental data |
|
This page was generated on 2021-01-11 15:59:22 -0500 (Mon, 11 Jan 2021).
TO THE DEVELOPERS/MAINTAINERS OF THE gskb PACKAGE: Please make sure to use the following settings in order to reproduce any error or warning you see on this page. |
Package 149/385 | Hostname | OS / Arch | INSTALL | BUILD | CHECK | ||||||
Valerie Bares
| malbec2 | Linux (Ubuntu 20.04.1 LTS) / x86_64 | [ OK ] | ERROR | skipped | ||||||
riesling1 | Windows Server 2019 Standard / x64 | OK | ERROR | skipped |
Package: gskb |
Version: 1.23.1 |
Command: /home/biocbuild/bbs-3.13-bioc/R/bin/R CMD INSTALL gskb |
StartedAt: 2021-01-11 09:48:01 -0500 (Mon, 11 Jan 2021) |
EndedAt: 2021-01-11 09:48:04 -0500 (Mon, 11 Jan 2021) |
EllapsedTime: 3.2 seconds |
RetCode: 0 |
Status: OK |
############################################################################## ############################################################################## ### ### Running command: ### ### /home/biocbuild/bbs-3.13-bioc/R/bin/R CMD INSTALL gskb ### ############################################################################## ############################################################################## * installing to library ‘/home/biocbuild/bbs-3.13-bioc/R/library’ * installing *source* package ‘gskb’ ... ** using staged installation ** R ** data ** inst ** byte-compile and prepare package for lazy loading ** help *** installing help indices ** building package indices ** installing vignettes ** testing if installed package can be loaded from temporary location Warning: Package 'gskb' is deprecated and will be removed from Bioconductor version 3.14 ** testing if installed package can be loaded from final location Warning: Package 'gskb' is deprecated and will be removed from Bioconductor version 3.14 ** testing if installed package keeps a record of temporary installation path * DONE (gskb)