Back to Multiple platform build/check report for BioC 3.13 experimental data
ABCDEFGHIJK[L]MNOPQRSTUVWXYZ

BUILD report for LiebermanAidenHiC2009 on malbec2

This page was generated on 2021-01-21 16:01:13 -0500 (Thu, 21 Jan 2021).

TO THE DEVELOPERS/MAINTAINERS OF THE LiebermanAidenHiC2009 PACKAGE: Please make sure to use the following settings in order to reproduce any error or warning you see on this page.
Package 197/386HostnameOS / ArchINSTALLBUILDCHECK
LiebermanAidenHiC2009 0.29.0
Felix Klein
Snapshot Date: 2021-01-21 09:00:14 -0500 (Thu, 21 Jan 2021)
URL: https://git.bioconductor.org/packages/LiebermanAidenHiC2009
Branch: master
Last Commit: 22d3990
Last Changed Date: 2020-10-27 09:53:33 -0500 (Tue, 27 Oct 2020)
malbec2 Linux (Ubuntu 20.04.1 LTS) / x86_64  OK [ OK ] WARNINGS UNNEEDED, same version exists in internal repository
riesling1 Windows Server 2019 Standard / x64  OK  OK  WARNINGS 

Summary

Package: LiebermanAidenHiC2009
Version: 0.29.0
Command: /home/biocbuild/bbs-3.13-bioc/R/bin/R CMD build --keep-empty-dirs --no-resave-data LiebermanAidenHiC2009
StartedAt: 2021-01-21 11:03:03 -0500 (Thu, 21 Jan 2021)
EndedAt: 2021-01-21 11:04:13 -0500 (Thu, 21 Jan 2021)
EllapsedTime: 69.7 seconds
RetCode: 0
Status:  OK 
PackageFile: LiebermanAidenHiC2009_0.29.0.tar.gz
PackageFileSize: 10.16 MiB

Command output

##############################################################################
##############################################################################
###
### Running command:
###
###   /home/biocbuild/bbs-3.13-bioc/R/bin/R CMD build --keep-empty-dirs --no-resave-data LiebermanAidenHiC2009
###
##############################################################################
##############################################################################


* checking for file ‘LiebermanAidenHiC2009/DESCRIPTION’ ... OK
* preparing ‘LiebermanAidenHiC2009’:
* checking DESCRIPTION meta-information ... OK
* installing the package to build vignettes
* creating vignettes ... OK
* checking for LF line-endings in source and make files and shell scripts
* checking for empty or unneeded directories
* looking to see if a ‘data/datalist’ file should be added
* building ‘LiebermanAidenHiC2009_0.29.0.tar.gz’