Back to Multiple platform build/check report for BioC 3.13 experimental data
ABCDEFGHIJKLMNO[P]QRSTUVWXYZ

CHECK report for prostateCancerGrasso on malbec2

This page was generated on 2021-01-11 15:59:24 -0500 (Mon, 11 Jan 2021).

TO THE DEVELOPERS/MAINTAINERS OF THE prostateCancerGrasso PACKAGE: Please make sure to use the following settings in order to reproduce any error or warning you see on this page.
Package 274/385HostnameOS / ArchINSTALLBUILDCHECK
prostateCancerGrasso 1.19.0
Mark Dunning
Snapshot Date: 2021-01-11 09:00:09 -0500 (Mon, 11 Jan 2021)
URL: https://git.bioconductor.org/packages/prostateCancerGrasso
Branch: master
Last Commit: ce1c1fe
Last Changed Date: 2020-10-27 10:18:19 -0500 (Tue, 27 Oct 2020)
malbec2 Linux (Ubuntu 20.04.1 LTS) / x86_64  OK  OK [ OK ]UNNEEDED, same version exists in internal repository
riesling1 Windows Server 2019 Standard / x64  OK  OK  OK 

Summary

Package: prostateCancerGrasso
Version: 1.19.0
Command: /home/biocbuild/bbs-3.13-bioc/R/bin/R CMD check --install=check:prostateCancerGrasso.install-out.txt --library=/home/biocbuild/bbs-3.13-bioc/R/library --no-vignettes --timings prostateCancerGrasso_1.19.0.tar.gz
StartedAt: 2021-01-11 12:32:24 -0500 (Mon, 11 Jan 2021)
EndedAt: 2021-01-11 12:32:40 -0500 (Mon, 11 Jan 2021)
EllapsedTime: 16.7 seconds
RetCode: 0
Status:  OK 
CheckDir: prostateCancerGrasso.Rcheck
Warnings: 0

Command output

##############################################################################
##############################################################################
###
### Running command:
###
###   /home/biocbuild/bbs-3.13-bioc/R/bin/R CMD check --install=check:prostateCancerGrasso.install-out.txt --library=/home/biocbuild/bbs-3.13-bioc/R/library --no-vignettes --timings prostateCancerGrasso_1.19.0.tar.gz
###
##############################################################################
##############################################################################


* using log directory ‘/home/biocbuild/bbs-3.13-data-experiment/meat/prostateCancerGrasso.Rcheck’
* using R Under development (unstable) (2021-01-05 r79797)
* using platform: x86_64-pc-linux-gnu (64-bit)
* using session charset: UTF-8
* using option ‘--no-vignettes’
* checking for file ‘prostateCancerGrasso/DESCRIPTION’ ... OK
* checking extension type ... Package
* this is package ‘prostateCancerGrasso’ version ‘1.19.0’
* checking package namespace information ... OK
* checking package dependencies ... OK
* checking if this is a source package ... OK
* checking if there is a namespace ... OK
* checking for hidden files and directories ... NOTE
Found the following hidden files and directories:
  .git_fetch_output.txt
  .git_merge_output.txt
These were most likely included in error. See section ‘Package
structure’ in the ‘Writing R Extensions’ manual.
* checking for portable file names ... OK
* checking for sufficient/correct file permissions ... OK
* checking whether package ‘prostateCancerGrasso’ can be installed ... OK
* checking installed package size ... NOTE
  installed size is 32.9Mb
  sub-directories of 1Mb or more:
    data  32.8Mb
* checking package directory ... OK
* checking ‘build’ directory ... OK
* checking DESCRIPTION meta-information ... OK
* checking top-level files ... OK
* checking for left-over files ... OK
* checking index information ... OK
* checking package subdirectories ... OK
* checking whether the package can be loaded ... OK
* checking whether the package can be loaded with stated dependencies ... OK
* checking whether the package can be unloaded cleanly ... OK
* checking whether the namespace can be loaded with stated dependencies ... OK
* checking whether the namespace can be unloaded cleanly ... OK
* checking Rd files ... OK
* checking Rd metadata ... OK
* checking Rd cross-references ... OK
* checking for missing documentation entries ... OK
* checking for code/documentation mismatches ... OK
* checking Rd \usage sections ... OK
* checking Rd contents ... OK
* checking for unstated dependencies in examples ... OK
* checking contents of ‘data’ directory ... OK
* checking data for non-ASCII characters ... OK
* checking data for ASCII and uncompressed saves ... OK
* checking files in ‘vignettes’ ... OK
* checking examples ... NONE
* checking for unstated dependencies in vignettes ... OK
* checking package vignettes in ‘inst/doc’ ... OK
* checking running R code from vignettes ... SKIPPED
* checking re-building of vignette outputs ... SKIPPED
* checking PDF version of manual ... OK
* DONE

Status: 2 NOTEs
See
  ‘/home/biocbuild/bbs-3.13-data-experiment/meat/prostateCancerGrasso.Rcheck/00check.log’
for details.



Installation output

prostateCancerGrasso.Rcheck/00install.out

##############################################################################
##############################################################################
###
### Running command:
###
###   /home/biocbuild/bbs-3.13-bioc/R/bin/R CMD INSTALL prostateCancerGrasso
###
##############################################################################
##############################################################################


* installing to library ‘/home/biocbuild/bbs-3.13-bioc/R/library’
* installing *source* package ‘prostateCancerGrasso’ ...
** using staged installation
** data
*** moving datasets to lazyload DB
** help
*** installing help indices
** building package indices
** installing vignettes
** testing if installed package can be loaded from temporary location
** testing if installed package can be loaded from final location
** testing if installed package keeps a record of temporary installation path
* DONE (prostateCancerGrasso)

Tests output


Example timings