Back to Multiple platform build/check report for BioC 3.13 experimental data
AB[C]DEFGHIJKLMNOPQRSTUVWXYZ

BUILD report for colonCA on malbec2

This page was generated on 2021-01-18 15:58:32 -0500 (Mon, 18 Jan 2021).

TO THE DEVELOPERS/MAINTAINERS OF THE colonCA PACKAGE: Please make sure to use the following settings in order to reproduce any error or warning you see on this page.
Package 71/385HostnameOS / ArchINSTALLBUILDCHECK
colonCA 1.33.0
W Sylvia Merk
Snapshot Date: 2021-01-18 09:00:15 -0500 (Mon, 18 Jan 2021)
URL: https://git.bioconductor.org/packages/colonCA
Branch: master
Last Commit: 26a5e93
Last Changed Date: 2020-10-27 09:45:02 -0500 (Tue, 27 Oct 2020)
malbec2 Linux (Ubuntu 20.04.1 LTS) / x86_64  OK [ OK ] WARNINGS UNNEEDED, same version exists in internal repository
riesling1 Windows Server 2019 Standard / x64  OK  OK  WARNINGS 

Summary

Package: colonCA
Version: 1.33.0
Command: /home/biocbuild/bbs-3.13-bioc/R/bin/R CMD build --keep-empty-dirs --no-resave-data colonCA
StartedAt: 2021-01-18 10:29:44 -0500 (Mon, 18 Jan 2021)
EndedAt: 2021-01-18 10:29:45 -0500 (Mon, 18 Jan 2021)
EllapsedTime: 0.5 seconds
RetCode: 0
Status:  OK 
PackageFile: colonCA_1.33.0.tar.gz
PackageFileSize: 783.6 KiB

Command output

##############################################################################
##############################################################################
###
### Running command:
###
###   /home/biocbuild/bbs-3.13-bioc/R/bin/R CMD build --keep-empty-dirs --no-resave-data colonCA
###
##############################################################################
##############################################################################


* checking for file ‘colonCA/DESCRIPTION’ ... OK
* preparing ‘colonCA’:
* checking DESCRIPTION meta-information ... OK
* checking for LF line-endings in source and make files and shell scripts
* checking for empty or unneeded directories
* looking to see if a ‘data/datalist’ file should be added
* building ‘colonCA_1.33.0.tar.gz’