Back to Multiple platform build/check report for BioC 3.13 experimental data
ABCDEFGHIJKLM[N]OPQRSTUVWXYZ

BUILD report for NestLink on malbec2

This page was generated on 2021-01-14 15:59:04 -0500 (Thu, 14 Jan 2021).

TO THE DEVELOPERS/MAINTAINERS OF THE NestLink PACKAGE: Please make sure to use the following settings in order to reproduce any error or warning you see on this page.
Package 248/385HostnameOS / ArchINSTALLBUILDCHECK
NestLink 1.7.0
Lennart Opitz
Snapshot Date: 2021-01-14 09:00:13 -0500 (Thu, 14 Jan 2021)
URL: https://git.bioconductor.org/packages/NestLink
Branch: master
Last Commit: 3b487be
Last Changed Date: 2020-10-27 10:29:06 -0500 (Tue, 27 Oct 2020)
malbec2 Linux (Ubuntu 20.04.1 LTS) / x86_64  OK [ OK ] OK UNNEEDED, same version exists in internal repository
riesling1 Windows Server 2019 Standard / x64  OK  OK  OK 

Summary

Package: NestLink
Version: 1.7.0
Command: /home/biocbuild/bbs-3.13-bioc/R/bin/R CMD build --keep-empty-dirs --no-resave-data NestLink
StartedAt: 2021-01-14 11:12:39 -0500 (Thu, 14 Jan 2021)
EndedAt: 2021-01-14 11:17:25 -0500 (Thu, 14 Jan 2021)
EllapsedTime: 286.6 seconds
RetCode: 0
Status:  OK 
PackageFile: NestLink_1.7.0.tar.gz
PackageFileSize: 5.566 MiB

Command output

##############################################################################
##############################################################################
###
### Running command:
###
###   /home/biocbuild/bbs-3.13-bioc/R/bin/R CMD build --keep-empty-dirs --no-resave-data NestLink
###
##############################################################################
##############################################################################


* checking for file ‘NestLink/DESCRIPTION’ ... OK
* preparing ‘NestLink’:
* checking DESCRIPTION meta-information ... OK
* installing the package to build vignettes
* creating vignettes ... OK
* checking for LF line-endings in source and make files and shell scripts
* checking for empty or unneeded directories
* building ‘NestLink_1.7.0.tar.gz’