Back to Multiple platform build/check report for BioC 3.13 experimental data |
|
This page was generated on 2021-01-14 15:59:04 -0500 (Thu, 14 Jan 2021).
TO THE DEVELOPERS/MAINTAINERS OF THE pwrEWAS.data PACKAGE: Please make sure to use the following settings in order to reproduce any error or warning you see on this page. |
Package 283/385 | Hostname | OS / Arch | INSTALL | BUILD | CHECK | ||||||
pwrEWAS.data 1.5.0 Stefan Graw
| malbec2 | Linux (Ubuntu 20.04.1 LTS) / x86_64 | [ OK ] | OK | OK | ![]() | |||||
riesling1 | Windows Server 2019 Standard / x64 | OK | OK | OK |
Package: pwrEWAS.data |
Version: 1.5.0 |
Command: /home/biocbuild/bbs-3.13-bioc/R/bin/R CMD INSTALL pwrEWAS.data |
StartedAt: 2021-01-14 10:02:48 -0500 (Thu, 14 Jan 2021) |
EndedAt: 2021-01-14 10:02:50 -0500 (Thu, 14 Jan 2021) |
EllapsedTime: 1.7 seconds |
RetCode: 0 |
Status: OK |
############################################################################## ############################################################################## ### ### Running command: ### ### /home/biocbuild/bbs-3.13-bioc/R/bin/R CMD INSTALL pwrEWAS.data ### ############################################################################## ############################################################################## * installing to library ‘/home/biocbuild/bbs-3.13-bioc/R/library’ * installing *source* package ‘pwrEWAS.data’ ... ** using staged installation ** R ** inst ** byte-compile and prepare package for lazy loading ** help *** installing help indices ** building package indices ** installing vignettes ** testing if installed package can be loaded from temporary location ** testing if installed package can be loaded from final location ** testing if installed package keeps a record of temporary installation path * DONE (pwrEWAS.data)