Back to Multiple platform build/check report for BioC 3.13 experimental data
A[B]CDEFGHIJKLMNOPQRSTUVWXYZ

INSTALL report for bodymapRat on malbec2

This page was generated on 2021-01-14 15:58:57 -0500 (Thu, 14 Jan 2021).

TO THE DEVELOPERS/MAINTAINERS OF THE bodymapRat PACKAGE: Please make sure to use the following settings in order to reproduce any error or warning you see on this page.
Package 32/385HostnameOS / ArchINSTALLBUILDCHECK
bodymapRat 1.7.0
Stephanie Hicks
Snapshot Date: 2021-01-14 09:00:13 -0500 (Thu, 14 Jan 2021)
URL: https://git.bioconductor.org/packages/bodymapRat
Branch: master
Last Commit: d3a4487
Last Changed Date: 2020-10-27 10:29:45 -0500 (Tue, 27 Oct 2020)
malbec2 Linux (Ubuntu 20.04.1 LTS) / x86_64 [ OK ] OK  OK UNNEEDED, same version exists in internal repository
riesling1 Windows Server 2019 Standard / x64  OK  OK  OK 

Summary

Package: bodymapRat
Version: 1.7.0
Command: /home/biocbuild/bbs-3.13-bioc/R/bin/R CMD INSTALL bodymapRat
StartedAt: 2021-01-14 10:03:55 -0500 (Thu, 14 Jan 2021)
EndedAt: 2021-01-14 10:04:22 -0500 (Thu, 14 Jan 2021)
EllapsedTime: 27.0 seconds
RetCode: 0
Status:  OK 

Command output

##############################################################################
##############################################################################
###
### Running command:
###
###   /home/biocbuild/bbs-3.13-bioc/R/bin/R CMD INSTALL bodymapRat
###
##############################################################################
##############################################################################


* installing to library ‘/home/biocbuild/bbs-3.13-bioc/R/library’
* installing *source* package ‘bodymapRat’ ...
** using staged installation
** R
** inst
** byte-compile and prepare package for lazy loading
** help
*** installing help indices
** building package indices
** installing vignettes
** testing if installed package can be loaded from temporary location
snapshotDate(): 2021-01-14
** testing if installed package can be loaded from final location
snapshotDate(): 2021-01-14
** testing if installed package keeps a record of temporary installation path
* DONE (bodymapRat)