Back to Multiple platform build/check report for BioC 3.13 experimental data
AB[C]DEFGHIJKLMNOPQRSTUVWXYZ

INSTALL report for ceu1kgv on malbec2

This page was generated on 2021-01-14 15:58:58 -0500 (Thu, 14 Jan 2021).

TO THE DEVELOPERS/MAINTAINERS OF THE ceu1kgv PACKAGE: Please make sure to use the following settings in order to reproduce any error or warning you see on this page.
Package 53/385HostnameOS / ArchINSTALLBUILDCHECK
ceu1kgv 0.33.1
VJ Carey
Snapshot Date: 2021-01-14 09:00:13 -0500 (Thu, 14 Jan 2021)
URL: https://git.bioconductor.org/packages/ceu1kgv
Branch: master
Last Commit: aaa6b5c
Last Changed Date: 2020-11-30 08:19:41 -0500 (Mon, 30 Nov 2020)
malbec2 Linux (Ubuntu 20.04.1 LTS) / x86_64 [ ERROR ] ERROR  skipped 
riesling1 Windows Server 2019 Standard / x64  ERROR  ERROR  skipped 

Summary

Package: ceu1kgv
Version: 0.33.1
Command: /home/biocbuild/bbs-3.13-bioc/R/bin/R CMD INSTALL ceu1kgv
StartedAt: 2021-01-14 10:15:00 -0500 (Thu, 14 Jan 2021)
EndedAt: 2021-01-14 10:15:00 -0500 (Thu, 14 Jan 2021)
EllapsedTime: 0.5 seconds
RetCode: 1
Status:  ERROR 

Command output

##############################################################################
##############################################################################
###
### Running command:
###
###   /home/biocbuild/bbs-3.13-bioc/R/bin/R CMD INSTALL ceu1kgv
###
##############################################################################
##############################################################################


* installing to library ‘/home/biocbuild/bbs-3.13-bioc/R/library’
ERROR: dependency ‘GGBase’ is not available for package ‘ceu1kgv’
* removing ‘/home/biocbuild/bbs-3.13-bioc/R/library/ceu1kgv’