Back to Multiple platform build/check report for BioC 3.13 experimental data
ABCDEFGHIJKLM[N]OPQRSTUVWXYZ

INSTALL report for NCIgraphData on malbec2

This page was generated on 2021-01-14 15:59:04 -0500 (Thu, 14 Jan 2021).

TO THE DEVELOPERS/MAINTAINERS OF THE NCIgraphData PACKAGE: Please make sure to use the following settings in order to reproduce any error or warning you see on this page.
Package 247/385HostnameOS / ArchINSTALLBUILDCHECK
NCIgraphData 1.27.0
Laurent Jacob
Snapshot Date: 2021-01-14 09:00:13 -0500 (Thu, 14 Jan 2021)
URL: https://git.bioconductor.org/packages/NCIgraphData
Branch: master
Last Commit: a0595f2
Last Changed Date: 2020-10-27 09:53:01 -0500 (Tue, 27 Oct 2020)
malbec2 Linux (Ubuntu 20.04.1 LTS) / x86_64 [ OK ] OK  WARNINGS UNNEEDED, same version exists in internal repository
riesling1 Windows Server 2019 Standard / x64  OK  OK  WARNINGS 

Summary

Package: NCIgraphData
Version: 1.27.0
Command: /home/biocbuild/bbs-3.13-bioc/R/bin/R CMD INSTALL NCIgraphData
StartedAt: 2021-01-14 09:53:26 -0500 (Thu, 14 Jan 2021)
EndedAt: 2021-01-14 09:53:37 -0500 (Thu, 14 Jan 2021)
EllapsedTime: 10.7 seconds
RetCode: 0
Status:  OK 

Command output

##############################################################################
##############################################################################
###
### Running command:
###
###   /home/biocbuild/bbs-3.13-bioc/R/bin/R CMD INSTALL NCIgraphData
###
##############################################################################
##############################################################################


* installing to library ‘/home/biocbuild/bbs-3.13-bioc/R/library’
* installing *source* package ‘NCIgraphData’ ...
** using staged installation
** data
*** moving datasets to lazyload DB
** help
*** installing help indices
** building package indices
** testing if installed package can be loaded from temporary location
** testing if installed package can be loaded from final location
** testing if installed package keeps a record of temporary installation path
* DONE (NCIgraphData)